Workbook
Name __B1: #REF!
Name __B1: #REF!
Name __B1: #REF!
Name __B11: #REF!
Name __B11: #REF!
Name __B11: #REF!
Name __TB10: #REF!
Name __TB10: #REF!
Name __TB10: #REF!
Name __TB24: #REF!
Name __TB24: #REF!
Name __TB24: #REF!
Name _1: #REF!
Name _B1: #REF!
Name _B1: #REF!
Name _B1: #REF!
Name _B11: #REF!
Name _B11: #REF!
Name _B11: #REF!
Name _c1: #REF!
Name _c2: #REF!
Name _ｇ2: #REF!
Name _H1: #REF!
Name _H10: #REF!
Name _H12: #REF!
Name _H13: #REF!
Name _H14: #REF!
Name _H15: #REF!
Name _H16: #REF!
Name _H17: #REF!
Name _H18: #REF!
Name _H19: #REF!
Name _H2: #REF!
Name _H20: #REF!
Name _H3: #REF!
Name _H4: #REF!
Name _H5: #REF!
Name _H6: #REF!
Name _LK1: #REF!
Name _LK2: #REF!
Name _n2: #REF!
Name _n3: #REF!
Name _n30: #REF!
Name _nen1: #REF!
Name _nen2: #REF!
Name _NN1: #REF!
Name _NN2: #REF!
Name _NN3: #REF!
Name _NO2: #REF!
Name _NO3: #REF!
Name _pic1: "図 23"
Name _ｒ: #REF!
Name _RE1: #REF!
Name _S1: #REF!
Name _S2: #REF!
Name _TB10: #REF!
Name _TB10: #REF!
Name _TB10: #REF!
Name _TB24: #REF!
Name _TB24: #REF!

Sheet RA表（オンバラ）
A1: 投資法人の資産構成内容（オン・バランス）
B3: 投資法人名 | C3: アクティビア・プロパティーズ投資法人
B4: 作成者 | C4: 東急不動産リート・マネジメント株式会社
B5: 時点 | C5: 46173
A10: ●標記投資法人の資産（オン・バランス）構成内容は以下のとおりです。 | H10: （千円）
A11: 項目 | B11: 資産項目 | E11: 告示で定める ﾘｽｸ･ｳｪｲﾄ（%） | F11: 信用リスク削減効果適用前
F12: a. ﾘｽｸ･ｳｪｲﾄの 加重平均値（%） | G12: b. 時価 | H12: c. 信用ﾘｽｸ･ ｱｾｯﾄの額(a*b) | K12: 関数用
A13: 1 | B13: 現金 | E13: 0 | F13: =IFERROR(H13/G13,"") | G13: =SUMIFS('明細（オンバラ）'!$E:$E,'明細（オンバラ）'!J:J,K13) -> 0 | H13: =SUMIFS('明細（オンバラ）'!$G:$G,'明細（オンバラ）'!J:J,K13) -> 0 | I13: =IFERROR(H13/$G$44*100,"") -> 0 | K13: =IFERROR(INDEX(科目対照表!$L$6:$L$114,MATCH(B13,科目対照表!$M$6:$M$114,0),1),"") -> 101
A14: 2 | B14: 我が国の中央政府及び中央銀行向け | E14: 0 | F14: =IFERROR(H14/G14,"") -> 0 | G14: =SUMIFS('明細（オンバラ）'!$E:$E,'明細（オンバラ）'!J:J,K14) -> 24171 | H14: =SUMIFS('明細（オンバラ）'!$G:$G,'明細（オンバラ）'!J:J,K14) -> 0 | I14: =IFERROR(H14/$G$44*100,"") -> 0 | K14: =IFERROR(INDEX(科目対照表!$L$6:$L$114,MATCH(B14,科目対照表!$M$6:$M$114,0),1),"") -> 201
A15: 3 | B15: 外国の中央政府及び中央銀行向け | E15: 0～150 | F15: =IFERROR(H15/G15,"") | G15: =SUMIFS('明細（オンバラ）'!$E:$E,'明細（オンバラ）'!J:J,K15) -> 0 | H15: =SUMIFS('明細（オンバラ）'!$G:$G,'明細（オンバラ）'!J:J,K15) -> 0 | I15: =IFERROR(H15/$G$44*100,"") -> 0 | K15: =IFERROR(INDEX(科目対照表!$L$6:$L$114,MATCH(B15,科目対照表!$M$6:$M$114,0),1),"") -> 301
A16: 4 | B16: 国際決済銀行等向け | E16: 0 | F16: =IFERROR(H16/G16,"") | G16: =SUMIFS('明細（オンバラ）'!$E:$E,'明細（オンバラ）'!J:J,K16) -> 0 | H16: =SUMIFS('明細（オンバラ）'!$G:$G,'明細（オンバラ）'!J:J,K16) -> 0 | I16: =IFERROR(H16/$G$44*100,"") -> 0 | K16: =IFERROR(INDEX(科目対照表!$L$6:$L$114,MATCH(B16,科目対照表!$M$6:$M$114,0),1),"") -> 401
A17: 5 | B17: 我が国の地方公共団体向け | E17: 0 | F17: =IFERROR(H17/G17,"") | G17: =SUMIFS('明細（オンバラ）'!$E:$E,'明細（オンバラ）'!J:J,K17) -> 0 | H17: =SUMIFS('明細（オンバラ）'!$G:$G,'明細（オンバラ）'!J:J,K17) -> 0 | I17: =IFERROR(H17/$G$44*100,"") -> 0 | K17: =IFERROR(INDEX(科目対照表!$L$6:$L$114,MATCH(B17,科目対照表!$M$6:$M$114,0),1),"") -> 501
A18: 6 | B18: 外国の中央政府等以外の公共部門向け（カバード・ボンド除く） | E18: 20～150 | F18: =IFERROR(H18/G18,"") | G18: =SUMIFS('明細（オンバラ）'!$E:$E,'明細（オンバラ）'!J:J,K18) -> 0 | H18: =SUMIFS('明細（オンバラ）'!$G:$G,'明細（オンバラ）'!J:J,K18) -> 0 | I18: =IFERROR(H18/$G$44*100,"") -> 0 | K18: =IFERROR(INDEX(科目対照表!$L$6:$L$114,MATCH(B18,科目対照表!$M$6:$M$114,0),1),"") -> 601
A19: 7 | B19: 国際開発銀行向け | E19: 0～150 | F19: =IFERROR(H19/G19,"") | G19: =SUMIFS('明細（オンバラ）'!$E:$E,'明細（オンバラ）'!J:J,K19) -> 0 | H19: =SUMIFS('明細（オンバラ）'!$G:$G,'明細（オンバラ）'!J:J,K19) -> 0 | I19: =IFERROR(H19/$G$44*100,"") -> 0 | K19: =IFERROR(INDEX(科目対照表!$L$6:$L$114,MATCH(B19,科目対照表!$M$6:$M$114,0),1),"") -> 701
A20: 8 | B20: 地方公共団体金融機構向け | E20: 10～150 | F20: =IFERROR(H20/G20,"") | G20: =SUMIFS('明細（オンバラ）'!$E:$E,'明細（オンバラ）'!J:J,K20) -> 0 | H20: =SUMIFS('明細（オンバラ）'!$G:$G,'明細（オンバラ）'!J:J,K20) -> 0 | I20: =IFERROR(H20/$G$44*100,"") -> 0 | K20: =IFERROR(INDEX(科目対照表!$L$6:$L$114,MATCH(B20,科目対照表!$M$6:$M$114,0),1),"") -> 801
A21: 9 | B21: 我が国の政府関係機関向け | E21: 10～150 | F21: =IFERROR(H21/G21,"") | G21: =SUMIFS('明細（オンバラ）'!$E:$E,'明細（オンバラ）'!J:J,K21) -> 0 | H21: =SUMIFS('明細（オンバラ）'!$G:$G,'明細（オンバラ）'!J:J,K21) -> 0 | I21: =IFERROR(H21/$G$44*100,"") -> 0 | K21: =IFERROR(INDEX(科目対照表!$L$6:$L$114,MATCH(B21,科目対照表!$M$6:$M$114,0),1),"") -> 901
A22: 10 | B22: 地方三公社向け | E22: 20～150 | F22: =IFERROR(H22/G22,"") | G22: =SUMIFS('明細（オンバラ）'!$E:$E,'明細（オンバラ）'!J:J,K22) -> 0 | H22: =SUMIFS('明細（オンバラ）'!$G:$G,'明細（オンバラ）'!J:J,K22) -> 0 | I22: =IFERROR(H22/$G$44*100,"") -> 0 | K22: =IFERROR(INDEX(科目対照表!$L$6:$L$114,MATCH(B22,科目対照表!$M$6:$M$114,0),1),"") -> 1001
A23: 11 | B23: 金融機関及び第一種金融商品取引業者及び保険会社向け | E23: 20～150 | F23: =IFERROR(H23/G23,"") -> 0.2 | G23: =SUMIFS('明細（オンバラ）'!$E:$E,'明細（オンバラ）'!J:J,K23)+SUM(G24) -> 21097651 | H23: =SUMIFS('明細（オンバラ）'!$G:$G,'明細（オンバラ）'!J:J,K23)+SUM(H24) -> 4219530.2 | I23: =IFERROR(H23/$G$44*100,"") -> 0.61380649 | K23: =IFERROR(INDEX(科目対照表!$L$6:$L$114,MATCH(B23,科目対照表!$M$6:$M$114,0),1),"") -> 1101
B24: （うち第一種金融商品取引業者及び保険会社向け） | E24: 20～150 | F24: =IFERROR(H24/G24,"") | G24: =SUMIFS('明細（オンバラ）'!$E:$E,'明細（オンバラ）'!J:J,K24) -> 0 | H24: =SUMIFS('明細（オンバラ）'!$G:$G,'明細（オンバラ）'!J:J,K24) -> 0 | I24: =IFERROR(H24/$G$44*100,"") -> 0 | K24: =IFERROR(INDEX(科目対照表!$L$6:$L$114,MATCH(B24,科目対照表!$M$6:$M$114,0),1),"") -> 1102
A25: 12 | B25: カバード・ボンド向け | E25: 10～100 | F25: =IFERROR(H25/G25,"") | G25: =SUMIFS('明細（オンバラ）'!$E:$E,'明細（オンバラ）'!J:J,K25) -> 0 | H25: =SUMIFS('明細（オンバラ）'!$G:$G,'明細（オンバラ）'!J:J,K25) -> 0 | I25: =IFERROR(H25/$G$44*100,"") -> 0 | K25: =IFERROR(INDEX(科目対照表!$L$6:$L$114,MATCH(B25,科目対照表!$M$6:$M$114,0),1),"") -> 1201
A26: 13 | B26: 法人等向け（特定貸付債権向けを含む） | E26: 20～150 | F26: =IFERROR(H26/G26,"") -> 1 | G26: =SUMIFS('明細（オンバラ）'!$E:$E,'明細（オンバラ）'!J:J,K26)+SUM(G27) -> 1416841 | H26: =SUMIFS('明細（オンバラ）'!$G:$G,'明細（オンバラ）'!J:J,K26)+SUM(H27) -> 1416841 | I26: =IFERROR(H26/$G$44*100,"") -> 0.20610498 | K26: =IFERROR(INDEX(科目対照表!$L$6:$L$114,MATCH(B26,科目対照表!$M$6:$M$114,0),1),"") -> 1301
B27: （うち特定貸付債権向け） | E27: 20～150 | F27: =IFERROR(H27/G27,"") | G27: =SUMIFS('明細（オンバラ）'!$E:$E,'明細（オンバラ）'!J:J,K27) -> 0 | H27: =SUMIFS('明細（オンバラ）'!$G:$G,'明細（オンバラ）'!J:J,K27) -> 0 | I27: =IFERROR(H27/$G$44*100,"") -> 0 | K27: =IFERROR(INDEX(科目対照表!$L$6:$L$114,MATCH(B27,科目対照表!$M$6:$M$114,0),1),"") -> 1302
A28: 14 | B28: 適格中堅中小企業等向け及び個人向け | E28: 45～150 | F28: =IFERROR(H28/G28,"") | G28: =SUMIFS('明細（オンバラ）'!$E:$E,'明細（オンバラ）'!J:J,K28) -> 0 | H28: =SUMIFS('明細（オンバラ）'!$G:$G,'明細（オンバラ）'!J:J,K28) -> 0 | I28: =IFERROR(H28/$G$44*100,"") -> 0 | K28: =IFERROR(INDEX(科目対照表!$L$6:$L$114,MATCH(B28,科目対照表!$M$6:$M$114,0),1),"") -> 1401
A29: 15 | B29: 不動産関連向け | E29: 20～150 | F29: =IFERROR(H29/G29,"") | G29: =SUMIFS('明細（オンバラ）'!$E:$E,'明細（オンバラ）'!J:J,K29) -> 0 | H29: =SUMIFS('明細（オンバラ）'!$G:$G,'明細（オンバラ）'!J:J,K29) -> 0 | I29: =IFERROR(H29/$G$44*100,"") -> 0 | K29: =IFERROR(INDEX(科目対照表!$L$6:$L$114,MATCH(B29,科目対照表!$M$6:$M$114,0),1),"") -> 1501
A30: 16 | B30: 劣後債権その他資本性証券 | E30: 150 | F30: =IFERROR(H30/G30,"") | G30: =SUMIFS('明細（オンバラ）'!$E:$E,'明細（オンバラ）'!J:J,K30) -> 0 | H30: =SUMIFS('明細（オンバラ）'!$G:$G,'明細（オンバラ）'!J:J,K30) -> 0 | I30: =IFERROR(H30/$G$44*100,"") -> 0 | K30: =IFERROR(INDEX(科目対照表!$L$6:$L$114,MATCH(B30,科目対照表!$M$6:$M$114,0),1),"") -> 1601
A31: 17 | B31: 延滞等 | E31: 50～150 | F31: =IFERROR(H31/G31,"") | G31: =SUMIFS('明細（オンバラ）'!$E:$E,'明細（オンバラ）'!J:J,K31) -> 0 | H31: =SUMIFS('明細（オンバラ）'!$G:$G,'明細（オンバラ）'!J:J,K31) -> 0 | I31: =IFERROR(H31/$G$44*100,"") -> 0 | K31: =IFERROR(INDEX(科目対照表!$L$6:$L$114,MATCH(B31,科目対照表!$M$6:$M$114,0),1),"") -> 1701
A32: 18 | B32: 取立未済手形 | E32: 20 | F32: =IFERROR(H32/G32,"") | G32: =SUMIFS('明細（オンバラ）'!$E:$E,'明細（オンバラ）'!J:J,K32) -> 0 | H32: =SUMIFS('明細（オンバラ）'!$G:$G,'明細（オンバラ）'!J:J,K32) -> 0 | I32: =IFERROR(H32/$G$44*100,"") -> 0 | K32: =IFERROR(INDEX(科目対照表!$L$6:$L$114,MATCH(B32,科目対照表!$M$6:$M$114,0),1),"") -> 1801
A33: 19 | B33: 信用保証協会等による保証付 | E33: 0～10 | F33: =IFERROR(H33/G33,"") | G33: =SUMIFS('明細（オンバラ）'!$E:$E,'明細（オンバラ）'!J:J,K33) -> 0 | H33: =SUMIFS('明細（オンバラ）'!$G:$G,'明細（オンバラ）'!J:J,K33) -> 0 | I33: =IFERROR(H33/$G$44*100,"") -> 0 | K33: =IFERROR(INDEX(科目対照表!$L$6:$L$114,MATCH(B33,科目対照表!$M$6:$M$114,0),1),"") -> 1901
A34: 20 | B34: 株式会社地域経済活性化支援機構等による保証付 | E34: 10 | F34: =IFERROR(H34/G34,"") | G34: =SUMIFS('明細（オンバラ）'!$E:$E,'明細（オンバラ）'!J:J,K34) -> 0 | H34: =SUMIFS('明細（オンバラ）'!$G:$G,'明細（オンバラ）'!J:J,K34) -> 0 | I34: =IFERROR(H34/$G$44*100,"") -> 0 | K34: =IFERROR(INDEX(科目対照表!$L$6:$L$114,MATCH(B34,科目対照表!$M$6:$M$114,0),1),"") -> 2001
A35: 21 | B35: 株式及び株式と同等の性質を有するもの | E35: 250/400 | F35: =IFERROR(H35/G35,"") | G35: =SUMIFS('明細（オンバラ）'!$E:$E,'明細（オンバラ）'!J:J,K35) -> 0 | H35: =SUMIFS('明細（オンバラ）'!$G:$G,'明細（オンバラ）'!J:J,K35) -> 0 | I35: =IFERROR(H35/$G$44*100,"") -> 0 | K35: =IFERROR(INDEX(科目対照表!$L$6:$L$114,MATCH(B35,科目対照表!$M$6:$M$114,0),1),"") -> 2101
A36: 22 | B36: 上記以外 | E36: - | F36: =IFERROR(H36/G36,"") -> 1.0036229 | G36: =SUMIFS('明細（オンバラ）'!$E:$E,'明細（オンバラ）'!J:J,K36)+SUM(G37:G40) -> 664897890 | H36: =SUMIFS('明細（オンバラ）'!$G:$G,'明細（オンバラ）'!J:J,K36)+SUM(H37:H40) -> 667306755 | I36: =IFERROR(H36/$G$44*100,"") -> 97.071759 | K36: =IFERROR(INDEX(科目対照表!$L$6:$L$114,MATCH(B36,科目対照表!$M$6:$M$114,0),1),"") -> 2201
B37: （うち有形固定資産（不動産）） | E37: 100 | F37: =IFERROR(H37/G37,"") -> 1 | G37: ='明細（オンバラ）'!E71 -> 652835914 | H37: ='明細（オンバラ）'!G71 -> 652835914 | K37: =IFERROR(INDEX(科目対照表!$L$6:$L$114,MATCH(B37,科目対照表!$M$6:$M$114,0),1),"") -> 2202
B38: （うち有形固定資産（不動産）（匿名組合出資持分の裏付資産）） | E38: - | F38: =IFERROR(H38/G38,"") -> 2.5 | G38: =SUMIFS('明細（オンバラ）'!$E:$E,'明細（オンバラ）'!J:J,K38) -> 1605910 | H38: =SUMIFS('明細（オンバラ）'!$G:$G,'明細（オンバラ）'!J:J,K38) -> 4014775 | K38: =IFERROR(INDEX(科目対照表!$L$6:$L$114,MATCH(B38,科目対照表!$M$6:$M$114,0),1),"") -> 2203
B39: （うち無形固定資産（借地権）） | F39: =IFERROR(H39/G39,"") -> 1 | G39: =SUMIFS('明細（オンバラ）'!$E:$E,'明細（オンバラ）'!J:J,K39) -> 9055086 | H39: =SUMIFS('明細（オンバラ）'!$G:$G,'明細（オンバラ）'!J:J,K39) -> 9055086 | K39: =IFERROR(INDEX(科目対照表!$L$6:$L$114,MATCH(B39,科目対照表!$M$6:$M$114,0),1),"") -> 2204
B40: （うち上記以外のエクスポージャー） | E40: - | F40: =IFERROR(H40/G40,"") -> 1 | G40: =SUMIFS('明細（オンバラ）'!$E:$E,'明細（オンバラ）'!J:J,K40) -> 1400980 | H40: =SUMIFS('明細（オンバラ）'!$G:$G,'明細（オンバラ）'!J:J,K40) -> 1400980 | I40: =IFERROR(H40/$G$44*100,"") -> 0.20379772 | K40: =IFERROR(INDEX(科目対照表!$L$6:$L$114,MATCH(B40,科目対照表!$M$6:$M$114,0),1),"") -> 2205
A41: 23 | B41: 証券化 | E41: 0～1250 | F41: =IFERROR(H41/G41,"") | G41: =SUMIFS('明細（オンバラ）'!$E:$E,'明細（オンバラ）'!J:J,K41) -> 0 | H41: =SUMIFS('明細（オンバラ）'!$G:$G,'明細（オンバラ）'!J:J,K41) -> 0 | I41: =IFERROR(H41/$G$44*100,"") -> 0 | K41: =IFERROR(INDEX(科目対照表!$L$6:$L$114,MATCH(B41,科目対照表!$M$6:$M$114,0),1),"") -> 2301
A42: 24 | B42: 再証券化 | E42: 0～1250 | F42: =IFERROR(H42/G42,"") | G42: =SUMIFS('明細（オンバラ）'!$E:$E,'明細（オンバラ）'!J:J,K42) -> 0 | H42: =SUMIFS('明細（オンバラ）'!$G:$G,'明細（オンバラ）'!J:J,K42) -> 0 | I42: =IFERROR(H42/$G$44*100,"") -> 0 | K42: =IFERROR(INDEX(科目対照表!$L$6:$L$114,MATCH(B42,科目対照表!$M$6:$M$114,0),1),"") -> 2401
A43: 25 | B43: 複数の資産を裏付とする資産（所謂ファンド）のうち、個々の資産の把握が困難な資産 | E43: 0～1250 | F43: =IFERROR(H43/G43,"") | G43: =SUMIFS('明細（オンバラ）'!$E:$E,'明細（オンバラ）'!J:J,K43) -> 0 | H43: =SUMIFS('明細（オンバラ）'!$G:$G,'明細（オンバラ）'!J:J,K43) -> 0 | I43: =IFERROR(H43/$G$44*100,"") -> 0 | K43: =IFERROR(INDEX(科目対照表!$L$6:$L$114,MATCH(B43,科目対照表!$M$6:$M$114,0),1),"") -> 2501
F44: =IFERROR(H44/G44,"") -> 0.97891671 | G44: =SUM(G13:G43)-SUM(G24)-SUM(G27)-SUM(G37:G40) -> 687436553 | H44: =SUM(H13:H43)-SUM(H24)-SUM(H27)-SUM(H37:H40) -> 6.7294313e+08
K45: =IFERROR(INDEX(科目対照表!$L$6:$L$114,MATCH(B45,科目対照表!$M$6:$M$114,0),1),"")
...

Sheet RA表（オフバラ）
A1: 投資法人の資産構成内容（オフ・バランス）
B3: 投資法人名 | C3: ='RA表（オンバラ）'!C3 -> アクティビア・プロパティーズ投資法人
B4: 作成時点 | C4: ='RA表（オンバラ）'!C5 -> 46173
A9: ●標記投資法人の資産（オフ・バランス）構成内容は以下のとおりです。 | H9: （千円）
A10: 項目 | B10: 資産項目 | E10: 掛け目（%）
F11: 想定元本 | G11: 与信相当額 | H11: 信用リスクアセット | K11: 関数用
A12: 1 | B12: 任意の時期に無条件で取消可能又は相手方の信用状態が悪化した場合に自動的に取消可能なコミットメント | E12: 10 | F12: =SUMIFS('明細（オフバラ）'!E:E,'明細（オフバラ）'!N:N,K12) -> 0 | G12: =SUMIFS('明細（オフバラ）'!H:H,'明細（オフバラ）'!N:N,K12) -> 0 | H12: =SUMIFS('明細（オフバラ）'!G:G,'明細（オフバラ）'!N:N,K12) -> 0 | I12: =IFERROR(H12/$F$35*100,"") -> 0 | K12: =IFERROR(INDEX(科目対照表!$L$6:$L$114,MATCH(B12,科目対照表!$M$6:$M$114,0),1),"") -> 1000101
A13: 2 | B13: 短期かつ流動性の高い貿易関連偶発債務 | E13: 20 | F13: =SUMIFS('明細（オフバラ）'!E:E,'明細（オフバラ）'!N:N,K13) -> 0 | G13: =SUMIFS('明細（オフバラ）'!H:H,'明細（オフバラ）'!N:N,K13) -> 0 | H13: =SUMIFS('明細（オフバラ）'!G:G,'明細（オフバラ）'!N:N,K13) -> 0 | I13: =IFERROR(H13/$F$35*100,"") -> 0 | K13: =IFERROR(INDEX(科目対照表!$L$6:$L$114,MATCH(B13,科目対照表!$M$6:$M$114,0),1),"") -> 2000101
A14: 3 | B14: コミットメント（項目1に該当するものを除く） | E14: 40 | F14: =SUMIFS('明細（オフバラ）'!E:E,'明細（オフバラ）'!N:N,K14) -> 0 | G14: =SUMIFS('明細（オフバラ）'!H:H,'明細（オフバラ）'!N:N,K14) -> 0 | H14: =SUMIFS('明細（オフバラ）'!G:G,'明細（オフバラ）'!N:N,K14) -> 0 | I14: =IFERROR(H14/$F$35*100,"") -> 0 | K14: =IFERROR(INDEX(科目対照表!$L$6:$L$114,MATCH(B14,科目対照表!$M$6:$M$114,0),1),"") -> 3000101
A15: 4 | B15: 特定の取引に係る偶発債務（項目2に該当するものを除く） | E15: 50 | F15: =SUMIFS('明細（オフバラ）'!E:E,'明細（オフバラ）'!N:N,K15) -> 0 | G15: =SUMIFS('明細（オフバラ）'!H:H,'明細（オフバラ）'!N:N,K15) -> 0 | H15: =SUMIFS('明細（オフバラ）'!G:G,'明細（オフバラ）'!N:N,K15) -> 0 | I15: =IFERROR(H15/$F$35*100,"") -> 0 | K15: =IFERROR(INDEX(科目対照表!$L$6:$L$114,MATCH(B15,科目対照表!$M$6:$M$114,0),1),"") -> 4000101
A16: 5 | B16: ＮＩＦ又はＲＵＦ | E16: 50 | F16: =SUMIFS('明細（オフバラ）'!E:E,'明細（オフバラ）'!N:N,K16) -> 0 | G16: =SUMIFS('明細（オフバラ）'!H:H,'明細（オフバラ）'!N:N,K16) -> 0 | H16: =SUMIFS('明細（オフバラ）'!G:G,'明細（オフバラ）'!N:N,K16) -> 0 | I16: =IFERROR(H16/$F$35*100,"") -> 0 | K16: =IFERROR(INDEX(科目対照表!$L$6:$L$114,MATCH(B16,科目対照表!$M$6:$M$114,0),1),"") -> 5000101
A17: 6 | B17: 信用供与に直接代替する偶発債務 | E17: 100 | F17: =SUMIFS('明細（オフバラ）'!E:E,'明細（オフバラ）'!N:N,K17) -> 0 | G17: =SUMIFS('明細（オフバラ）'!H:H,'明細（オフバラ）'!N:N,K17) -> 0 | H17: =SUMIFS('明細（オフバラ）'!G:G,'明細（オフバラ）'!N:N,K17) -> 0 | I17: =IFERROR(H17/$F$35*100,"") -> 0 | K17: =IFERROR(INDEX(科目対照表!$L$6:$L$114,MATCH(B17,科目対照表!$M$6:$M$114,0),1),"") -> 6000101
A18: 7 | B18: 有価証券の貸付、現金若しくは有価証券による担保の提供又は有価証券の買戻条件付売却若しくは売戻条件付購入 | E18: 100 | F18: =SUMIFS('明細（オフバラ）'!E:E,'明細（オフバラ）'!N:N,K18) -> 0 | G18: =SUMIFS('明細（オフバラ）'!H:H,'明細（オフバラ）'!N:N,K18) -> 0 | H18: =SUMIFS('明細（オフバラ）'!G:G,'明細（オフバラ）'!N:N,K18) -> 0 | I18: =IFERROR(H18/$F$35*100,"") -> 0 | K18: =IFERROR(INDEX(科目対照表!$L$6:$L$114,MATCH(B18,科目対照表!$M$6:$M$114,0),1),"") -> 7000101
A19: 8 | B19: 上記のいずれにも該当しない信用供与に代替するオフ・バランス取引 | E19: 100 | F19: =SUMIFS('明細（オフバラ）'!E:E,'明細（オフバラ）'!N:N,K19) -> 0 | G19: =SUMIFS('明細（オフバラ）'!H:H,'明細（オフバラ）'!N:N,K19) -> 0 | H19: =SUMIFS('明細（オフバラ）'!G:G,'明細（オフバラ）'!N:N,K19) -> 0 | I19: =IFERROR(H19/$F$35*100,"") -> 0 | K19: =IFERROR(INDEX(科目対照表!$L$6:$L$114,MATCH(B19,科目対照表!$M$6:$M$114,0),1),"") -> 8000101
A20: 9 | B20: 買戻条件付資産売却又は求償権付資産売却等 | E20: 100 | F20: =SUMIFS('明細（オフバラ）'!E:E,'明細（オフバラ）'!N:N,K20) -> 0 | G20: =SUMIFS('明細（オフバラ）'!H:H,'明細（オフバラ）'!N:N,K20) -> 0 | H20: =SUMIFS('明細（オフバラ）'!G:G,'明細（オフバラ）'!N:N,K20) -> 0 | I20: =IFERROR(H20/$F$35*100,"") -> 0 | K20: =IFERROR(INDEX(科目対照表!$L$6:$L$114,MATCH(B20,科目対照表!$M$6:$M$114,0),1),"") -> 9000101
A21: 10 | B21: 先物資産購入、先渡預金、部分払込株式の購入又は部分払込債券の購入 | E21: 100 | F21: =SUMIFS('明細（オフバラ）'!E:E,'明細（オフバラ）'!N:N,K21) -> 0 | G21: =SUMIFS('明細（オフバラ）'!H:H,'明細（オフバラ）'!N:N,K21) -> 0 | H21: =SUMIFS('明細（オフバラ）'!G:G,'明細（オフバラ）'!N:N,K21) -> 0 | I21: =IFERROR(H21/$F$35*100,"") -> 0 | K21: =IFERROR(INDEX(科目対照表!$L$6:$L$114,MATCH(B21,科目対照表!$M$6:$M$114,0),1),"") -> 100001
A22: 11 | B22: 派生商品取引 | E22: - | F22: =SUMIFS('明細（オフバラ）'!E:E,'明細（オフバラ）'!N:N,K22) -> 0 | G22: =SUMIFS('明細（オフバラ）'!H:H,'明細（オフバラ）'!N:N,K22) -> 0 | H22: =SUMIFS('明細（オフバラ）'!G:G,'明細（オフバラ）'!N:N,K22) -> 0 | I22: =IFERROR(H22/$F$35*100,"") -> 0 | K22: =IFERROR(INDEX(科目対照表!$L$6:$L$114,MATCH(B22,科目対照表!$M$6:$M$114,0),1),"") -> 110001
A23: 11-1 | B23: 外国為替関連取引 | E23: - | F23: =SUMIFS('明細（オフバラ）'!E:E,'明細（オフバラ）'!N:N,K23) -> 0 | G23: =SUMIFS('明細（オフバラ）'!H:H,'明細（オフバラ）'!N:N,K23) -> 0 | H23: =SUMIFS('明細（オフバラ）'!G:G,'明細（オフバラ）'!N:N,K23) -> 0 | I23: =IFERROR(H23/$F$35*100,"") -> 0 | K23: =IFERROR(INDEX(科目対照表!$L$6:$L$114,MATCH(B23,科目対照表!$M$6:$M$114,0),1),"") -> 110002
A24: 11-2 | B24: 金利関連取引 | E24: - | F24: =SUMIFS('明細（オフバラ）'!E:E,'明細（オフバラ）'!N:N,K24) -> 31710000 | G24: =SUMIFS('明細（オフバラ）'!H:H,'明細（オフバラ）'!N:N,K24) -> 2130428.5 | H24: =SUMIFS('明細（オフバラ）'!G:G,'明細（オフバラ）'!N:N,K24) -> 639128.55 | I24: =IFERROR(H24/$F$35*100,"") -> 2.0155426 | K24: =IFERROR(INDEX(科目対照表!$L$6:$L$114,MATCH(B24,科目対照表!$M$6:$M$114,0),1),"") -> 110003
A25: 11-3 | B25: 金関連取引 | E25: - | F25: =SUMIFS('明細（オフバラ）'!E:E,'明細（オフバラ）'!N:N,K25) -> 0 | G25: =SUMIFS('明細（オフバラ）'!H:H,'明細（オフバラ）'!N:N,K25) -> 0 | H25: =SUMIFS('明細（オフバラ）'!G:G,'明細（オフバラ）'!N:N,K25) -> 0 | I25: =IFERROR(H25/$F$35*100,"") -> 0 | K25: =IFERROR(INDEX(科目対照表!$L$6:$L$114,MATCH(B25,科目対照表!$M$6:$M$114,0),1),"") -> 110004
A26: 11-4 | B26: 株式関連取引 | E26: - | F26: =SUMIFS('明細（オフバラ）'!E:E,'明細（オフバラ）'!N:N,K26) -> 0 | G26: =SUMIFS('明細（オフバラ）'!H:H,'明細（オフバラ）'!N:N,K26) -> 0 | H26: =SUMIFS('明細（オフバラ）'!G:G,'明細（オフバラ）'!N:N,K26) -> 0 | I26: =IFERROR(H26/$F$35*100,"") -> 0 | K26: =IFERROR(INDEX(科目対照表!$L$6:$L$114,MATCH(B26,科目対照表!$M$6:$M$114,0),1),"") -> 110005
A27: 11-5 | B27: 貴金属(金を除く)関連取引 | E27: - | F27: =SUMIFS('明細（オフバラ）'!E:E,'明細（オフバラ）'!N:N,K27) -> 0 | G27: =SUMIFS('明細（オフバラ）'!H:H,'明細（オフバラ）'!N:N,K27) -> 0 | H27: =SUMIFS('明細（オフバラ）'!G:G,'明細（オフバラ）'!N:N,K27) -> 0 | I27: =IFERROR(H27/$F$35*100,"") -> 0 | K27: =IFERROR(INDEX(科目対照表!$L$6:$L$114,MATCH(B27,科目対照表!$M$6:$M$114,0),1),"") -> 110006
A28: 11-6 | B28: その他のコモディティ関連取引 | E28: - | F28: =SUMIFS('明細（オフバラ）'!E:E,'明細（オフバラ）'!N:N,K28) -> 0 | G28: =SUMIFS('明細（オフバラ）'!H:H,'明細（オフバラ）'!N:N,K28) -> 0 | H28: =SUMIFS('明細（オフバラ）'!G:G,'明細（オフバラ）'!N:N,K28) -> 0 | I28: =IFERROR(H28/$F$35*100,"") -> 0 | K28: =IFERROR(INDEX(科目対照表!$L$6:$L$114,MATCH(B28,科目対照表!$M$6:$M$114,0),1),"") -> 110007
A29: 11-7 | B29: クレジット・デリバティブ取引 （カウンター・パーティー・リスク） | E29: - | F29: =SUMIFS('明細（オフバラ）'!E:E,'明細（オフバラ）'!N:N,K29) -> 0 | G29: =SUMIFS('明細（オフバラ）'!H:H,'明細（オフバラ）'!N:N,K29) -> 0 | H29: =SUMIFS('明細（オフバラ）'!G:G,'明細（オフバラ）'!N:N,K29) -> 0 | I29: =IFERROR(H29/$F$35*100,"") -> 0 | K29: =IFERROR(INDEX(科目対照表!$L$6:$L$114,MATCH(B29,科目対照表!$M$6:$M$114,0),1),"") -> 110008
A30: 一括清算ﾈｯﾃｨﾝｸﾞ契約による与信相当額削減効果（△） | E30: - | F30: =SUMIFS('明細（オフバラ）'!E:E,'明細（オフバラ）'!N:N,K30) -> 0 | G30: =SUMIFS('明細（オフバラ）'!H:H,'明細（オフバラ）'!N:N,K30) -> 0 | H30: =SUMIFS('明細（オフバラ）'!G:G,'明細（オフバラ）'!N:N,K30) -> 0 | I30: =IFERROR(H30/$F$35*100,"") -> 0 | K30: =IFERROR(INDEX(科目対照表!$L$6:$L$114,MATCH(A30,科目対照表!$M$6:$M$114,0),1),"") -> 111111
A31: 12 | B31: 長期決済期間取引 | E31: - | F31: =SUMIFS('明細（オフバラ）'!E:E,'明細（オフバラ）'!N:N,K31) -> 0 | G31: =SUMIFS('明細（オフバラ）'!H:H,'明細（オフバラ）'!N:N,K31) -> 0 | H31: =SUMIFS('明細（オフバラ）'!G:G,'明細（オフバラ）'!N:N,K31) -> 0 | I31: =IFERROR(H31/$F$35*100,"") -> 0 | K31: =IFERROR(INDEX(科目対照表!$L$6:$L$114,MATCH(B31,科目対照表!$M$6:$M$114,0),1),"") -> 120001
A32: 13 | B32: 未決済取引 | E32: - | F32: =SUMIFS('明細（オフバラ）'!E:E,'明細（オフバラ）'!N:N,K32) -> 0 | G32: =SUMIFS('明細（オフバラ）'!H:H,'明細（オフバラ）'!N:N,K32) -> 0 | H32: =SUMIFS('明細（オフバラ）'!G:G,'明細（オフバラ）'!N:N,K32) -> 0 | I32: =IFERROR(H32/$F$35*100,"") -> 0 | K32: =IFERROR(INDEX(科目対照表!$L$6:$L$114,MATCH(B32,科目対照表!$M$6:$M$114,0),1),"") -> 130001
A33: 14 | B33: 証券化ｴｸｽﾎﾟｰｼﾞｬｰに係る 適格なｻｰﾋﾞｻｰ･ｷｬｯｼｭ･ｱﾄﾞﾊﾞﾝｽの信用供与枠のうち未実行部分 | E33: 10 | F33: =SUMIFS('明細（オフバラ）'!E:E,'明細（オフバラ）'!N:N,K33) -> 0 | G33: =SUMIFS('明細（オフバラ）'!H:H,'明細（オフバラ）'!N:N,K33) -> 0 | H33: =SUMIFS('明細（オフバラ）'!G:G,'明細（オフバラ）'!N:N,K33) -> 0 | I33: =IFERROR(H33/$F$35*100,"") -> 0 | K33: =IFERROR(INDEX(科目対照表!$L$6:$L$114,MATCH(B33,科目対照表!$M$6:$M$114,0),1),"") -> 140001
A34: 15 | B34: 上記以外のｵﾌ･ﾊﾞﾗﾝｽの証券化ｴｸｽﾎﾟｰｼﾞｬｰ | E34: 100 | F34: =SUMIFS('明細（オフバラ）'!E:E,'明細（オフバラ）'!N:N,K34) -> 0 | G34: =SUMIFS('明細（オフバラ）'!H:H,'明細（オフバラ）'!N:N,K34) -> 0 | H34: =SUMIFS('明細（オフバラ）'!G:G,'明細（オフバラ）'!N:N,K34) -> 0 | I34: =IFERROR(H34/$F$35*100,"") -> 0 | K34: =IFERROR(INDEX(科目対照表!$L$6:$L$114,MATCH(B34,科目対照表!$M$6:$M$114,0),1),"") -> 150001
F35: =SUM(F12:F34) -> 31710000 | G35: =SUM(G12:G34) -> 2130428.5 | H35: =SUM(H12:H34) -> 639128.55 | K35: =IFERROR(INDEX(科目対照表!$L$6:$L$114,MATCH(B35,科目対照表!$M$6:$M$114,0),1),"")
K36: =IFERROR(INDEX(科目対照表!$L$6:$L$114,MATCH(B36,科目対照表!$M$6:$M$114,0),1),"")
A38: 1 | B38: 本資料は、本投資法人の投資口を保有する金融機関において、適用のある自己資本比率を算出する上で参考にしていただくことを目的として、本投資法人の資産運用会社である東急不動産リート・マネジメント株式会社（以下「弊社」といいます。）が作成したものです。本資料に記載の情報の全部又は一部を会計、税務又は規制上の取扱等の目的に利用される場合は、専門家とご相談の上、投資主様ご自身の判断と責任においてお取扱い下さいますようお願い申し上げます。 | K38: =IFERROR(INDEX(科目対照表!$L$6:$L$114,MATCH(B38,科目対照表!$M$6:$M$114,0),1),"")
A39: 2 | B39: 本資料に記載している情報は、過去の一定時点における本投資法人のポートフォリオの状況について得られた情報です。当該情報は、「銀行法第十四条の二の規定に基づき、銀行がその保有する資産等に照らし自己資本の充実の状況が適当であるかどうかを判断するための基準」（平成18年金融庁告示第19号。その後の変更を含み、以下「告示」といいます。）を含む関連法令等を参考にしていますが、必ずしも関連法令等の厳密な解釈に基づき算出した値ではありません。また、弊社独自の解釈及び判断により算出した値を含む場合がありますが、弊社がその算出方法等を推奨するものではありません。弊社は、適用されるリスク・ウェイトを含む本資料の正確性、完全性、合理性及び妥当性について、何ら表明又は保証を行うものではありません。本資料に記載された情報の不確実性又は不完全性及び本資料の使用により生じた結果について、弊社は一切の責任を負いません。 | K39: =IFERROR(INDEX(科目対照表!$L$6:$L$114,MATCH(B39,科目対照表!$M$6:$M$114,0),1),"")
A40: 3 | B40: 告示上、適用されるリスク・ウェイトについて経過措置が定められている場合であっても、本資料では、かかる経過措置が終了した後に適用されるリスク・ウェイトを記載しています。 | K40: =IFERROR(INDEX(科目対照表!$L$6:$L$114,MATCH(B40,科目対照表!$M$6:$M$114,0),1),"")
A41: 4 | B41: 弊社では、告示第48条の2に規定される「デュー・ディリジェンス分析」は実施しておりません。 | K41: =IFERROR(INDEX(科目対照表!$L$6:$L$114,MATCH(B41,科目対照表!$M$6:$M$114,0),1),"")
A42: 5 | B42: 派生商品取引については、告示第79条の4に規定されるカレント・エクスポージャー方式（CEM)を用いて計算しています。
A43: 6 | B43: 本資料の内容については、本投資法人の他の開示資料等での開示内容（開示内容の前提となる条件等を含みます。）と異なる場合があります。本資料の様式、表示項目、各数値の算出根拠等は予告なく変更する場合があります。また、本資料の必要性が無くなったと弊社が判断した場合は作成及び公表を中止する場合があります。 | K43: =IFERROR(INDEX(科目対照表!$L$6:$L$114,MATCH(B43,科目対照表!$M$6:$M$114,0),1),"")
A44: 7 | B44: 本資料は、作成基準日時点における、独立監査人による監査報告書受領済の2026年5月期の計算書類に基づき作成しています。 | K44: =IFERROR(INDEX(科目対照表!$L$6:$L$114,MATCH(B44,科目対照表!$M$6:$M$114,0),1),"")

Sheet 明細（オンバラ）
A1: 1 | B1: 1 | C1: 1 | D1: 1 | E1: 1 | F1: 1 | G1: 1 | H1: 1 | I1: 1 | J1: 1 | K1: 1
A4: リスク・アセット オンバランス明細
B5: 貸借対照表及び不動産明細については、資産運用報告を参照
A9: a. 財務諸表 | G9: （千円） | I9: 18
B10: 科目 | C10: カウンターパーティ/資産名称 | D10: リスク資産項目 | E10: 帳簿価額 | F10: リスクウェイト | G10: リスクアセット額 | I10: 財務諸表# | J10: 科目＃
B11: 現金及び預金 | C11: 短期（３ヶ月以内）円建て預金（BBB-格以上） | D11: 金融機関及び第一種金融商品取引業者及び保険会社向け | E11: 15170679 | F11: 0.2 | G11: 3034135.8 | I11: 1 | J11: 1101
B12: 信託現金及び信託預金 | C12: 短期（３ヶ月以内）円建て預金（BBB-格以上） | D12: 金融機関及び第一種金融商品取引業者及び保険会社向け | E12: 5926972 | F12: 0.2 | G12: 1185394.4 | I12: 2 | J12: 1101
B13: 営業未収入金 | C13: 法人等 | D13: 法人等向け（特定貸付債権向けを含む） | E13: 680509 | F13: 1 | G13: 680509 | I13: 3 | J13: 1301
B14: 前払費用 | C14: 法人等 | D14: 法人等向け（特定貸付債権向けを含む） | E14: 707110 | F14: 1 | G14: 707110 | I14: 4 | J14: 1301
B15: 未収還付法人税等 | C15: - | D15: 我が国の中央政府及び中央銀行向け | E15: 14171 | F15: 0 | G15: 0 | I15: 5 | J15: 201
B16: 流動資産その他 | C16: 法人等 | D16: 上記以外（うち上記以外のエクスポージャー） | E16: 21384 | F16: 1 | G16: 21384 | I16: 6 | J16: 2205
B17: 工具、器具及び備品（純額） | C17: 不動産 | D17: 上記以外（うち有形固定資産（不動産）） | E17: 18591 | F17: 1 | G17: 18591 | I17: 7 | J17: 2202
B18: 信託建物（純額） | C18: 不動産 | D18: 上記以外（うち有形固定資産（不動産）） | E18: 72147614 | F18: 1 | G18: 72147614 | I18: 8 | J18: 2202
B19: 信託構築物（純額） | C19: 不動産 | D19: 上記以外（うち有形固定資産（不動産）） | E19: 402961 | F19: 1 | G19: 402961 | I19: 9 | J19: 2202
B20: 信託機械及び装置（純額） | C20: 不動産 | D20: 上記以外（うち有形固定資産（不動産）） | E20: 1198773 | F20: 1 | G20: 1198773 | I20: 10 | J20: 2202
B21: 信託工具、器具及び備品（純額） | C21: 不動産 | D21: 上記以外（うち有形固定資産（不動産）） | E21: 286059 | F21: 1 | G21: 286059 | I21: 11 | J21: 2202
B22: 信託土地 | C22: 不動産 | D22: 上記以外（うち有形固定資産（不動産）） | E22: 453337142 | F22: 1 | G22: 453337142 | I22: 12 | J22: 2202
... B24: 信託借地権 | C24: - | D24: 上記以外（うち無形固定資産（借地権）） | E24: 9055086 | F24: 1 | G24: 9055086 | I24: 14 | J24: 2204
B25: 無形固定資産その他 | C25: - | D25: 上記以外の無形固定資産等（自己資本調整項目） | E25: 3326 | F25: 欄外 | G25: - | I25: 15 | J25: 2601
B26: 投資有価証券 | C26: - | D26: 上記以外（うち有形固定資産（不動産）（匿名組合出資持分の裏付資産））） | E26: 1605910 | F26: 2.5 | G26: 4014775 | I26: 16 | J26: 2203
B27: 長期前払費用 | C27: 法人等 | D27: 上記以外（うち上記以外のエクスポージャー） | E27: 1315671 | F27: 1 | G27: 1315671 | I27: 17 | J27: 2205
B28: 投資法人債発行費 | C28: - | D28: 上記以外（うち上記以外のエクスポージャー） | E28: 63925 | F28: 1 | G28: 63925 | I28: 18 | J28: 2205
B39: ↑を挿入 | E39: 562011257
I40: TRUE
A42: b. 別途明細作成
A43: 投資その他の資産その他 | G43: （千円） | I43: 1
B44: 科目 | C44: カウンターパーティ/資産名称 | D44: リスク資産項目 | E44: 帳簿価額 | F44: リスクウェイト | G44: リスクアセット額 | I44: # | J44: 科目＃
B45: 投資その他の資産その他 | C45: 宅建業の営業保証金 | D45: 我が国の中央政府及び中央銀行向け | E45: 10000 | F45: 0 | G45: 0 | I45: 1 | J45: 201
B46: 投資その他の資産その他 | C46: 差入保証金 | D46: 法人等向け（特定貸付債権向けを含む） | E46: 29222 | F46: 1 | G46: 29222 | I46: 2 | J46: 1301
B48: ↑を挿入 | E48: 39222
I49: TRUE
A51: ※列を追加、不動産について鑑定評価額で拾えるように修正（71列目に算定価額を手入力） | G51: （千円）
A52: c. オンバランス外の資産 | I52: 0
B53: 科目 | C53: カウンターパーティ/資産名称 | D53: リスク資産項目 | E53: 帳簿価額 | I53: 財務諸表#
B54: #N/A | C54: #N/A | D54: #N/A | I54: 1
B58: ↑を挿入 | E58: 0
B61: d. 総資産額合計 (a+b+c) | E61: 562050479
I62: TRUE
A65: e. 不動産（鑑定評価額）
B66: 科目 | C66: カウンターパーティ/資産名称 | D66: リスク資産項目 | E66: 算定価額 | F66: リスクウェイト | G66: リスクアセット額 | I66: # | J66: 科目＃
...

Sheet 明細（オフバラ）
A1: リスク・アセット オフバランス明細
L2: （千円）
O3: 残存期間
A4: 金利スワップ取引 | Q4: アドオン掛け目
B5: 科目 | C5: カウンターパーティ/資産名称 | D5: リスク資産項目 | E5: 想定元本 | F5: リスク・ウェイト | G5: リスクアセット額 | H5: 個別銘柄与信相当額 | I5: 期末日 | J5: 取引終了日 | K5: アドオン掛け目 | L5: 再構築コスト | N5: 科目＃ | O5: 残存期間 | Q5: 取引の区分 | R5: 残存期間の区分 | S5: 関数 | T5: 掛け目
B6: 金利スワップ取引 | C6: A-格以上金融機関 | D6: 金利関連取引 | E6: 3500000 | F6: 0.3 | G6: 26426.122 | H6: 88087.074 | I6: 46173 | J6: 46573 | K6: 0.005 | L6: 41224.716 | N6: 110003 | O6: 1.0958904 | Q6: 金利関連取引 | R6: 1年以内 | S6: 0 | T6: 0
B7: 金利スワップ取引 | C7: A-格以上金融機関 | D7: 金利関連取引 | E7: 9640000 | F7: 0.3 | G7: 108071.17 | H7: 360237.23 | I7: 46173 | J7: 46763 | K7: 0.005 | L7: 191958.15 | N7: 110003 | O7: 1.6149635 | R7: 1年超5年以内 | S7: 1 | T7: 0.005
B8: 金利スワップ取引 | C8: A-格以上金融機関 | D8: 金利関連取引 | E8: 9850000 | F8: 0.3 | G8: 399094.21 | H8: 1330314 | I8: 46173 | J8: 48838 | K8: 0.015 | L8: 739126.02 | N8: 110003 | O8: 7.2963723 | R8: 5年超 | S8: 5 | T8: 0.015
B9: 金利スワップ取引 | C9: A-格以上金融機関 | D9: 金利関連取引 | E9: 3320000 | F9: 0.3 | G9: 47263.196 | H9: 157543.99 | I9: 46173 | J9: 49033 | K9: 0.015 | L9: 55229.324 | N9: 110003 | O9: 7.8308488 | Q9: 外国為替関連取引及び金関連取引 | R9: 1年以内 | S9: 0 | T9: 0.01
B10: 金利スワップ取引 | C10: A-格以上金融機関 | D10: 金利関連取引 | E10: 5400000 | F10: 0.3 | G10: 58273.857 | H10: 194246.19 | I10: 46173 | J10: 48660 | K10: 0.015 | L10: 48497.46 | N10: 110003 | O10: 6.8090349 | R10: 1年超5年以内 | S10: 1 | T10: 0.05
R11: 5年超 | S11: 5 | T11: 0.075
B17: ↑を挿入
E18: 31710000 | F18: 0.3 | G18: 639128.55 | H18: 2130428.5
A20: 外国為替関連取引 | L20: （千円）
B21: 科目 | C21: カウンターパーティ/資産名称 | D21: リスク資産項目 | E21: 想定元本 | F21: リスク・ウェイト | G21: リスクアセット額 | H21: 個別銘柄与信相当額 | I21: 期末日 | J21: 取引終了日 | K21: アドオン掛け目 | L21: 再構築コスト | N21: 科目＃ | O21: 残存期間
B33: ↑を挿入
E34: 0 | G34: 0 | H34: 0
A36: コミットメント取引 | H36: （千円）
B37: 科目 | C37: カウンターパーティ/資産名称 | D37: リスク資産項目 | E37: 想定元本 | F37: リスク・ウェイト | G37: リスクアセット額 | H37: 個別銘柄与信相当額 | N37: 科目＃
B49: ↑を挿入

Sheet 入力シート

Sheet 財務諸表
A1: =IFERROR(INDEX($U$1:$U$110,MATCH($L1,$Y$1:$Y$110,0),1),"") -> 0 | B1: =IFERROR(INDEX($W$1:$W$110,MATCH($L1,$Y$1:$Y$110,0),1),"") -> 0 | N1: 負債の部 | Y1: 0
A2: =IFERROR(INDEX($U$1:$U$110,MATCH($L2,$Y$1:$Y$110,0),1),"") -> 0 | B2: =IFERROR(INDEX($W$1:$W$110,MATCH($L2,$Y$1:$Y$110,0),1),"") -> 0 | N2: 1 | T2: =IF(OR(P2=$AE$15,P2=$AE$16,P2=$AE$17,P2=$AE$18,P2=$AE$19,P2=$AE$20,P2=$AE$21,P2=$AE$22,P2=$AE$23),P2,T1) -> 0 | Y2: =IF(N2=0,0,IF(AND(W2>0,W2<>""),MAX($Y$1:Y1)+1,0)) -> 0 | AA2: 置き換え | AC2: 削除
A3: =IFERROR(INDEX($U$1:$U$110,MATCH($L3,$Y$1:$Y$110,0),1),"") -> 0 | B3: =IFERROR(INDEX($W$1:$W$110,MATCH($L3,$Y$1:$Y$110,0),1),"") -> 0 | N3: =IF(N2=1,IF(P6=$N$1,0,1),0) -> 1 | T3: =IF(OR(P3=$AE$15,P3=$AE$16,P3=$AE$17,P3=$AE$18,P3=$AE$19,P3=$AE$20,P3=$AE$21,P3=$AE$22,P3=$AE$23),P3,T2) -> 0 | Y3: =IF(N3=0,0,IF(AND(W3>0,W3<>""),MAX($Y$1:Y2)+1,0)) -> 0 | AA3: △ | AC3: ※1,※3 | AD3: ※1 | AE3: *1 | AF3: ※1
A4: =IFERROR(INDEX($U$1:$U$110,MATCH($L4,$Y$1:$Y$110,0),1),"") -> 0 | B4: =IFERROR(INDEX($W$1:$W$110,MATCH($L4,$Y$1:$Y$110,0),1),"") -> （単位：千円） | H4: H列を追加「明細（オンバラ）」シートにて参照 | L4: 1 | N4: =IF(N3=1,IF(P7=$N$1,0,1),0) -> 1 | R4: （単位：千円） | T4: =IF(OR(P4=$AE$15,P4=$AE$16,P4=$AE$17,P4=$AE$18,P4=$AE$19,P4=$AE$20,P4=$AE$21,P4=$AE$22,P4=$AE$23),P4,T3) -> 0 | W4: =R4 -> （単位：千円） | Y4: =IF(N4=0,0,IF(AND(W4>0,W4<>""),MAX($Y$1:Y3)+1,0)) -> 1 | AC4: ※2,※3 | AD4: ※2 | AE4: *2 | AF4: ※2
A5: =IFERROR(INDEX($U$1:$U$110,MATCH($L5,$Y$1:$Y$110,0),1),"") -> 0 | B5: =IFERROR(INDEX($W$1:$W$110,MATCH($L5,$Y$1:$Y$110,0),1),"") -> 当 期 | C5: 別途明細作成 | D5: 標準カウンターパーティ | E5: オンバランス明細 | F5: 財務諸表＃ | G5: 別途明細＃ | H5: オンバランス外 | L5: =L4+1 -> 2 | N5: =IF(N4=1,IF(P8=$N$1,0,1),0) -> 1 | Q5: 前 期（ご参考） | R5: 当 期 | T5: =IF(OR(P5=$AE$15,P5=$AE$16,P5=$AE$17,P5=$AE$18,P5=$AE$19,P5=$AE$20,P5=$AE$21,P5=$AE$22,P5=$AE$23),P5,T4) -> 0 | V5: 変換 | W5: =R5 -> 当 期 | Y5: =IF(N5=0,0,IF(AND(W5>0,W5<>""),MAX($Y$1:Y4)+1,0)) -> 2 | AC5: ※1,※2 | AD5: ※3 | AE5: *3 | AF5: ※3
A6: =IFERROR(INDEX($U$1:$U$110,MATCH($L6,$Y$1:$Y$110,0),1),"") -> 現金及び預金 | B6: =IFERROR(INDEX($W$1:$W$110,MATCH($L6,$Y$1:$Y$110,0),1),"") -> 15170679 | D6: =IF(A6="","",IFERROR(VLOOKUP(A6,科目対照表!$C$6:$F$114,科目対照表!$F$4,0),"")) -> 短期（３ヶ月以内）円建て預金（BBB-格以上） | E6: =IF(A6="","",IFERROR(VLOOKUP(A6,科目対照表!$C$6:$H$114,科目対照表!$H$4,0),"")) -> Y | F6: =IF(D6="","",IF(E6="Y",IF(C6="",MAX($F$5:F5)+1,""),"")) -> 1 | G6: =IF(D6="","",IF(E6="Y",IF(C6="Y",MAX($G$5:G5)+1,""),"")) | H6: =IF(D6="","",IF(E6="",IF(C6="",MAX($H$5:H5)+1,""),"")) | L6: =L5+1 -> 3 | N6: =IF(N5=1,IF(P9=$N$1,0,1),0) -> 1 | Q6: 2025年 11月30日 | R6: 2026年5月31日 | T6: =IF(OR(P6=$AE$15,P6=$AE$16,P6=$AE$17,P6=$AE$18,P6=$AE$19,P6=$AE$20,P6=$AE$21,P6=$AE$22,P6=$AE$23),P6,T5) -> 0 | V6: {=_xlfn.IFS(IFERROR(SEARCH("△",S6),0)>0,SUBSTITUTE(S6,"△","-"),S6="","",TRUE,S6)} | W6: {=IFERROR(_xlfn.IFS(LEFT(V6,1)="※",VALUE(RIGHT(V6,LEN(V6)-FIND("★",SUBSTITUTE(V6," ","★",LEN(V6)-LEN(SUBSTITUTE(V6," ","")))))),OR(V6="－",V6="-"),0,TRUE,VALUE(V6)),"")} | Y6: =IF(N6=0,0,IF(AND(W6>0,W6<>""),MAX($Y$1:Y5)+1,0)) -> 0 | AC6: ※1,※2 | AD6: ※4 | AE6: *4 | AF6: ※4
A7: =IFERROR(INDEX($U$1:$U$110,MATCH($L7,$Y$1:$Y$110,0),1),"") -> 信託現金及び信託預金 | B7: =IFERROR(INDEX($W$1:$W$110,MATCH($L7,$Y$1:$Y$110,0),1),"") -> 5926972 | D7: =IF(A7="","",IFERROR(VLOOKUP(A7,科目対照表!$C$6:$F$114,科目対照表!$F$4,0),"")) -> 短期（３ヶ月以内）円建て預金（BBB-格以上） | E7: =IF(A7="","",IFERROR(VLOOKUP(A7,科目対照表!$C$6:$H$114,科目対照表!$H$4,0),"")) -> Y | F7: =IF(D7="","",IF(E7="Y",IF(C7="",MAX($F$5:F6)+1,""),"")) -> 2 | G7: =IF(D7="","",IF(E7="Y",IF(C7="Y",MAX($G$5:G6)+1,""),"")) | H7: =IF(D7="","",IF(E7="",IF(C7="",MAX($H$5:H6)+1,""),"")) | L7: =L6+1 -> 4 | N7: =IF(N6=1,IF(P10=$N$1,0,1),0) -> 1 | P7: 資産の部 | T7: =IF(OR(P7=$AE$15,P7=$AE$16,P7=$AE$17,P7=$AE$18,P7=$AE$19,P7=$AE$20,P7=$AE$21,P7=$AE$22,P7=$AE$23),P7,T6) -> 0 | U7: =IF(OR(P7=$AA$14,P7=$AA$15,P7=$AA$16,P7=$AA$17,P7=$AA$18,P7=$AA$19,P7=$AA$20,P7=$AB$14,P7=$AB$15,P7=$AB$16,P7=$AB$17,P7=$AB$18,P7=$AB$19,P7=$AB$20),T7&P7,P7) -> 資産の部 | V7: {=_xlfn.IFS(IFERROR(SEARCH("△",S7),0)>0,SUBSTITUTE(S7,"△","-"),S7="","",TRUE,S7)} | W7: {=IFERROR(_xlfn.IFS(LEFT(V7,1)="※",VALUE(RIGHT(V7,LEN(V7)-FIND("★",SUBSTITUTE(V7," ","★",LEN(V7)-LEN(SUBSTITUTE(V7," ","")))))),OR(V7="－",V7="-"),0,TRUE,VALUE(V7)),"")} | Y7: =IF(N7=0,0,IF(AND(W7>0,W7<>""),MAX($Y$1:Y6)+1,0)) -> 0 | AC7: ※１,※３ | AD7: ※5 | AE7: *5 | AF7: ※5
A8: =IFERROR(INDEX($U$1:$U$110,MATCH($L8,$Y$1:$Y$110,0),1),"") -> 営業未収入金 | B8: =IFERROR(INDEX($W$1:$W$110,MATCH($L8,$Y$1:$Y$110,0),1),"") -> 680509 | D8: =IF(A8="","",IFERROR(VLOOKUP(A8,科目対照表!$C$6:$F$114,科目対照表!$F$4,0),"")) -> 法人等 | E8: =IF(A8="","",IFERROR(VLOOKUP(A8,科目対照表!$C$6:$H$114,科目対照表!$H$4,0),"")) -> Y | F8: =IF(D8="","",IF(E8="Y",IF(C8="",MAX($F$5:F7)+1,""),"")) -> 3 | G8: =IF(D8="","",IF(E8="Y",IF(C8="Y",MAX($G$5:G7)+1,""),"")) | H8: =IF(D8="","",IF(E8="",IF(C8="",MAX($H$5:H7)+1,""),"")) | L8: =L7+1 -> 5 | N8: =IF(N7=1,IF(P11=$N$1,0,1),0) -> 1 | P8: 流動資産 | T8: =IF(OR(P8=$AE$15,P8=$AE$16,P8=$AE$17,P8=$AE$18,P8=$AE$19,P8=$AE$20,P8=$AE$21,P8=$AE$22,P8=$AE$23),P8,T7) -> 流動資産 | U8: =IF(OR(P8=$AA$14,P8=$AA$15,P8=$AA$16,P8=$AA$17,P8=$AA$18,P8=$AA$19,P8=$AA$20,P8=$AB$14,P8=$AB$15,P8=$AB$16,P8=$AB$17,P8=$AB$18,P8=$AB$19,P8=$AB$20),T8&P8,P8) -> 流動資産 | V8: =ASC(R8) | W8: =IFERROR(SUBSTITUTE(SUBSTITUTE(SUBSTITUTE(SUBSTITUTE(SUBSTITUTE(SUBSTITUTE(SUBSTITUTE(SUBSTITUTE(SUBSTITUTE(SUBSTITUTE(SUBSTITUTE(SUBSTITUTE(SUBSTITUTE(SUBSTITUTE(SUBSTITUTE(SUBSTITUTE(SUBSTITUTE(SUBSTITUTE(SUBSTITUTE(SUBSTITUTE(SUBSTITUTE(SUBSTITUTE(SUBSTITUTE(SUBSTITUTE(SUBSTITUTE(SUBSTITUTE(SUBSTITUTE(SUBSTITUTE(SUBSTITUTE(SUBSTITUTE(SUBSTITUTE(SUBSTITUTE(SUBSTITUTE(V8,$AA$3,"-"),$AC$3,""),$AC$4,""),$AC$5,""),$AC$6,""),$AD$3,""),$AD$4,""),$AD$5,""),$AD$6,""),$AD$7,""),$AD$8,""),$AD$9,""),$AE$3,""),$AE$4,""),$AE$5,""),$AF$3,""),$AF$4,""),$AF$5,""),$AF$6,""),$AF$7,""),$AF$8,""),$AF$9,""),$AE$6,""),$AE$7,""),$AE$8,""),$AE$9,""),$AC$7,""),$AC$8,""),$AC$9,""),$AA$4,"")," ","")," ","")," ","")*$AA$12/1000,"") | Y8: =IF(N8=0,0,IF(AND(W8>0,W8<>""),MAX($Y$1:Y7)+1,0)) -> 0 | AD8: ※6 | AE8: *6 | AF8: ※
A9: =IFERROR(INDEX($U$1:$U$110,MATCH($L9,$Y$1:$Y$110,0),1),"") -> 前払費用 | B9: =IFERROR(INDEX($W$1:$W$110,MATCH($L9,$Y$1:$Y$110,0),1),"") -> 707110 | D9: =IF(A9="","",IFERROR(VLOOKUP(A9,科目対照表!$C$6:$F$114,科目対照表!$F$4,0),"")) -> 法人等 | E9: =IF(A9="","",IFERROR(VLOOKUP(A9,科目対照表!$C$6:$H$114,科目対照表!$H$4,0),"")) -> Y | F9: =IF(D9="","",IF(E9="Y",IF(C9="",MAX($F$5:F8)+1,""),"")) -> 4 | G9: =IF(D9="","",IF(E9="Y",IF(C9="Y",MAX($G$5:G8)+1,""),"")) | H9: =IF(D9="","",IF(E9="",IF(C9="",MAX($H$5:H8)+1,""),"")) | L9: =L8+1 -> 6 | N9: =IF(N8=1,IF(P12=$N$1,0,1),0) -> 1 | P9: 現金及び預金 | Q9: 16624331 | R9: 15170679 | T9: =IF(OR(P9=$AE$15,P9=$AE$16,P9=$AE$17,P9=$AE$18,P9=$AE$19,P9=$AE$20,P9=$AE$21,P9=$AE$22,P9=$AE$23),P9,T8) -> 流動資産 | U9: =IF(OR(P9=$AA$14,P9=$AA$15,P9=$AA$16,P9=$AA$17,P9=$AA$18,P9=$AA$19,P9=$AA$20,P9=$AB$14,P9=$AB$15,P9=$AB$16,P9=$AB$17,P9=$AB$18,P9=$AB$19,P9=$AB$20),T9&P9,P9) -> 現金及び預金 | V9: =ASC(R9) -> 15170679 | W9: =IFERROR(SUBSTITUTE(SUBSTITUTE(SUBSTITUTE(SUBSTITUTE(SUBSTITUTE(SUBSTITUTE(SUBSTITUTE(SUBSTITUTE(SUBSTITUTE(SUBSTITUTE(SUBSTITUTE(SUBSTITUTE(SUBSTITUTE(SUBSTITUTE(SUBSTITUTE(SUBSTITUTE(SUBSTITUTE(SUBSTITUTE(SUBSTITUTE(SUBSTITUTE(SUBSTITUTE(SUBSTITUTE(SUBSTITUTE(SUBSTITUTE(SUBSTITUTE(SUBSTITUTE(SUBSTITUTE(SUBSTITUTE(SUBSTITUTE(SUBSTITUTE(SUBSTITUTE(SUBSTITUTE(SUBSTITUTE(V9,$AA$3,"-"),$AC$3,""),$AC$4,""),$AC$5,""),$AC$6,""),$AD$3,""),$AD$4,""),$AD$5,""),$AD$6,""),$AD$7,""),$AD$8,""),$AD$9,""),$AE$3,""),$AE$4,""),$AE$5,""),$AF$3,""),$AF$4,""),$AF$5,""),$AF$6,""),$AF$7,""),$AF$8,""),$AF$9,""),$AE$6,""),$AE$7,""),$AE$8,""),$AE$9,""),$AC$7,""),$AC$8,""),$AC$9,""),$AA$4,"")," ","")," ","")," ","")*$AA$12/1000,"") -> 15170679 | Y9: =IF(N9=0,0,IF(AND(W9>0,W9<>""),MAX($Y$1:Y8)+1,0)) -> 3 | AD9: ※7 | AE9: *
A10: =IFERROR(INDEX($U$1:$U$110,MATCH($L10,$Y$1:$Y$110,0),1),"") -> 未収還付法人税等 | B10: =IFERROR(INDEX($W$1:$W$110,MATCH($L10,$Y$1:$Y$110,0),1),"") -> 14171 | D10: =IF(A10="","",IFERROR(VLOOKUP(A10,科目対照表!$C$6:$F$114,科目対照表!$F$4,0),"")) -> - | E10: =IF(A10="","",IFERROR(VLOOKUP(A10,科目対照表!$C$6:$H$114,科目対照表!$H$4,0),"")) -> Y | F10: =IF(D10="","",IF(E10="Y",IF(C10="",MAX($F$5:F9)+1,""),"")) -> 5 | G10: =IF(D10="","",IF(E10="Y",IF(C10="Y",MAX($G$5:G9)+1,""),"")) | H10: =IF(D10="","",IF(E10="",IF(C10="",MAX($H$5:H9)+1,""),"")) | L10: =L9+1 -> 7 | N10: =IF(N9=1,IF(P13=$N$1,0,1),0) -> 1 | P10: 信託現金及び信託預金 | Q10: 4581403 | R10: 5926972 | T10: =IF(OR(P10=$AE$15,P10=$AE$16,P10=$AE$17,P10=$AE$18,P10=$AE$19,P10=$AE$20,P10=$AE$21,P10=$AE$22,P10=$AE$23),P10,T9) -> 流動資産 | U10: =IF(OR(P10=$AA$14,P10=$AA$15,P10=$AA$16,P10=$AA$17,P10=$AA$18,P10=$AA$19,P10=$AA$20,P10=$AB$14,P10=$AB$15,P10=$AB$16,P10=$AB$17,P10=$AB$18,P10=$AB$19,P10=$AB$20),T10&P10,P10) -> 信託現金及び信託預金 | V10: =ASC(R10) -> 5926972 | W10: =IFERROR(SUBSTITUTE(SUBSTITUTE(SUBSTITUTE(SUBSTITUTE(SUBSTITUTE(SUBSTITUTE(SUBSTITUTE(SUBSTITUTE(SUBSTITUTE(SUBSTITUTE(SUBSTITUTE(SUBSTITUTE(SUBSTITUTE(SUBSTITUTE(SUBSTITUTE(SUBSTITUTE(SUBSTITUTE(SUBSTITUTE(SUBSTITUTE(SUBSTITUTE(SUBSTITUTE(SUBSTITUTE(SUBSTITUTE(SUBSTITUTE(SUBSTITUTE(SUBSTITUTE(SUBSTITUTE(SUBSTITUTE(SUBSTITUTE(SUBSTITUTE(SUBSTITUTE(SUBSTITUTE(SUBSTITUTE(V10,$AA$3,"-"),$AC$3,""),$AC$4,""),$AC$5,""),$AC$6,""),$AD$3,""),$AD$4,""),$AD$5,""),$AD$6,""),$AD$7,""),$AD$8,""),$AD$9,""),$AE$3,""),$AE$4,""),$AE$5,""),$AF$3,""),$AF$4,""),$AF$5,""),$AF$6,""),$AF$7,""),$AF$8,""),$AF$9,""),$AE$6,""),$AE$7,""),$AE$8,""),$AE$9,""),$AC$7,""),$AC$8,""),$AC$9,""),$AA$4,"")," ","")," ","")," ","")*$AA$12/1000,"") -> 5926972 | Y10: =IF(N10=0,0,IF(AND(W10>0,W10<>""),MAX($Y$1:Y9)+1,0)) -> 4
A11: =IFERROR(INDEX($U$1:$U$110,MATCH($L11,$Y$1:$Y$110,0),1),"") -> 流動資産その他 | B11: =IFERROR(INDEX($W$1:$W$110,MATCH($L11,$Y$1:$Y$110,0),1),"") -> 21384 | D11: =IF(A11="","",IFERROR(VLOOKUP(A11,科目対照表!$C$6:$F$114,科目対照表!$F$4,0),"")) -> 法人等 | E11: =IF(A11="","",IFERROR(VLOOKUP(A11,科目対照表!$C$6:$H$114,科目対照表!$H$4,0),"")) -> Y | F11: =IF(D11="","",IF(E11="Y",IF(C11="",MAX($F$5:F10)+1,""),"")) -> 6 | G11: =IF(D11="","",IF(E11="Y",IF(C11="Y",MAX($G$5:G10)+1,""),"")) | H11: =IF(D11="","",IF(E11="",IF(C11="",MAX($H$5:H10)+1,""),"")) | L11: =L10+1 -> 8 | N11: =IF(N10=1,IF(P14=$N$1,0,1),0) -> 1 | P11: 営業未収入金 | Q11: 744238 | R11: 680509 | T11: =IF(OR(P11=$AE$15,P11=$AE$16,P11=$AE$17,P11=$AE$18,P11=$AE$19,P11=$AE$20,P11=$AE$21,P11=$AE$22,P11=$AE$23),P11,T10) -> 流動資産 | U11: =IF(OR(P11=$AA$14,P11=$AA$15,P11=$AA$16,P11=$AA$17,P11=$AA$18,P11=$AA$19,P11=$AA$20,P11=$AB$14,P11=$AB$15,P11=$AB$16,P11=$AB$17,P11=$AB$18,P11=$AB$19,P11=$AB$20),T11&P11,P11) -> 営業未収入金 | V11: =ASC(R11) -> 680509 | W11: =IFERROR(SUBSTITUTE(SUBSTITUTE(SUBSTITUTE(SUBSTITUTE(SUBSTITUTE(SUBSTITUTE(SUBSTITUTE(SUBSTITUTE(SUBSTITUTE(SUBSTITUTE(SUBSTITUTE(SUBSTITUTE(SUBSTITUTE(SUBSTITUTE(SUBSTITUTE(SUBSTITUTE(SUBSTITUTE(SUBSTITUTE(SUBSTITUTE(SUBSTITUTE(SUBSTITUTE(SUBSTITUTE(SUBSTITUTE(SUBSTITUTE(SUBSTITUTE(SUBSTITUTE(SUBSTITUTE(SUBSTITUTE(SUBSTITUTE(SUBSTITUTE(SUBSTITUTE(SUBSTITUTE(SUBSTITUTE(V11,$AA$3,"-"),$AC$3,""),$AC$4,""),$AC$5,""),$AC$6,""),$AD$3,""),$AD$4,""),$AD$5,""),$AD$6,""),$AD$7,""),$AD$8,""),$AD$9,""),$AE$3,""),$AE$4,""),$AE$5,""),$AF$3,""),$AF$4,""),$AF$5,""),$AF$6,""),$AF$7,""),$AF$8,""),$AF$9,""),$AE$6,""),$AE$7,""),$AE$8,""),$AE$9,""),$AC$7,""),$AC$8,""),$AC$9,""),$AA$4,"")," ","")," ","")," ","")*$AA$12/1000,"") -> 680509 | Y11: =IF(N11=0,0,IF(AND(W11>0,W11<>""),MAX($Y$1:Y10)+1,0)) -> 5 | AA11: 単位
A12: =IFERROR(INDEX($U$1:$U$110,MATCH($L12,$Y$1:$Y$110,0),1),"") -> 流動資産合計 | B12: =IFERROR(INDEX($W$1:$W$110,MATCH($L12,$Y$1:$Y$110,0),1),"") -> 22520829 | D12: =IF(A12="","",IFERROR(VLOOKUP(A12,科目対照表!$C$6:$F$114,科目対照表!$F$4,0),"")) | E12: =IF(A12="","",IFERROR(VLOOKUP(A12,科目対照表!$C$6:$H$114,科目対照表!$H$4,0),"")) | F12: =IF(D12="","",IF(E12="Y",IF(C12="",MAX($F$5:F11)+1,""),"")) | G12: =IF(D12="","",IF(E12="Y",IF(C12="Y",MAX($G$5:G11)+1,""),"")) | H12: =IF(D12="","",IF(E12="",IF(C12="",MAX($H$5:H11)+1,""),"")) | L12: =L11+1 -> 9 | N12: =IF(N11=1,IF(P15=$N$1,0,1),0) -> 1 | P12: 有価証券 | Q12: － | R12: － | T12: =IF(OR(P12=$AE$15,P12=$AE$16,P12=$AE$17,P12=$AE$18,P12=$AE$19,P12=$AE$20,P12=$AE$21,P12=$AE$22,P12=$AE$23),P12,T11) -> 流動資産 | U12: =IF(OR(P12=$AA$14,P12=$AA$15,P12=$AA$16,P12=$AA$17,P12=$AA$18,P12=$AA$19,P12=$AA$20,P12=$AB$14,P12=$AB$15,P12=$AB$16,P12=$AB$17,P12=$AB$18,P12=$AB$19,P12=$AB$20),T12&P12,P12) -> 有価証券 | V12: =ASC(R12) -> - | W12: =IFERROR(SUBSTITUTE(SUBSTITUTE(SUBSTITUTE(SUBSTITUTE(SUBSTITUTE(SUBSTITUTE(SUBSTITUTE(SUBSTITUTE(SUBSTITUTE(SUBSTITUTE(SUBSTITUTE(SUBSTITUTE(SUBSTITUTE(SUBSTITUTE(SUBSTITUTE(SUBSTITUTE(SUBSTITUTE(SUBSTITUTE(SUBSTITUTE(SUBSTITUTE(SUBSTITUTE(SUBSTITUTE(SUBSTITUTE(SUBSTITUTE(SUBSTITUTE(SUBSTITUTE(SUBSTITUTE(SUBSTITUTE(SUBSTITUTE(SUBSTITUTE(SUBSTITUTE(SUBSTITUTE(SUBSTITUTE(V12,$AA$3,"-"),$AC$3,""),$AC$4,""),$AC$5,""),$AC$6,""),$AD$3,""),$AD$4,""),$AD$5,""),$AD$6,""),$AD$7,""),$AD$8,""),$AD$9,""),$AE$3,""),$AE$4,""),$AE$5,""),$AF$3,""),$AF$4,""),$AF$5,""),$AF$6,""),$AF$7,""),$AF$8,""),$AF$9,""),$AE$6,""),$AE$7,""),$AE$8,""),$AE$9,""),$AC$7,""),$AC$8,""),$AC$9,""),$AA$4,"")," ","")," ","")," ","")*$AA$12/1000,"") | Y12: =IF(N12=0,0,IF(AND(W12>0,W12<>""),MAX($Y$1:Y11)+1,0)) -> 0 | AA12: 1000
A13: =IFERROR(INDEX($U$1:$U$110,MATCH($L13,$Y$1:$Y$110,0),1),"") -> 工具、器具及び備品 | B13: =IFERROR(INDEX($W$1:$W$110,MATCH($L13,$Y$1:$Y$110,0),1),"") -> 19094 | D13: =IF(A13="","",IFERROR(VLOOKUP(A13,科目対照表!$C$6:$F$114,科目対照表!$F$4,0),"")) | E13: =IF(A13="","",IFERROR(VLOOKUP(A13,科目対照表!$C$6:$H$114,科目対照表!$H$4,0),"")) | F13: =IF(D13="","",IF(E13="Y",IF(C13="",MAX($F$5:F12)+1,""),"")) | G13: =IF(D13="","",IF(E13="Y",IF(C13="Y",MAX($G$5:G12)+1,""),"")) | H13: =IF(D13="","",IF(E13="",IF(C13="",MAX($H$5:H12)+1,""),"")) | L13: =L12+1 -> 10 | N13: =IF(N12=1,IF(P16=$N$1,0,1),0) -> 1 | P13: 前払費用 | Q13: 441514 | R13: 707110 | T13: =IF(OR(P13=$AE$15,P13=$AE$16,P13=$AE$17,P13=$AE$18,P13=$AE$19,P13=$AE$20,P13=$AE$21,P13=$AE$22,P13=$AE$23),P13,T12) -> 流動資産 | U13: =IF(OR(P13=$AA$14,P13=$AA$15,P13=$AA$16,P13=$AA$17,P13=$AA$18,P13=$AA$19,P13=$AA$20,P13=$AB$14,P13=$AB$15,P13=$AB$16,P13=$AB$17,P13=$AB$18,P13=$AB$19,P13=$AB$20),T13&P13,P13) -> 前払費用 | V13: =ASC(R13) -> 707110 | W13: =IFERROR(SUBSTITUTE(SUBSTITUTE(SUBSTITUTE(SUBSTITUTE(SUBSTITUTE(SUBSTITUTE(SUBSTITUTE(SUBSTITUTE(SUBSTITUTE(SUBSTITUTE(SUBSTITUTE(SUBSTITUTE(SUBSTITUTE(SUBSTITUTE(SUBSTITUTE(SUBSTITUTE(SUBSTITUTE(SUBSTITUTE(SUBSTITUTE(SUBSTITUTE(SUBSTITUTE(SUBSTITUTE(SUBSTITUTE(SUBSTITUTE(SUBSTITUTE(SUBSTITUTE(SUBSTITUTE(SUBSTITUTE(SUBSTITUTE(SUBSTITUTE(SUBSTITUTE(SUBSTITUTE(SUBSTITUTE(V13,$AA$3,"-"),$AC$3,""),$AC$4,""),$AC$5,""),$AC$6,""),$AD$3,""),$AD$4,""),$AD$5,""),$AD$6,""),$AD$7,""),$AD$8,""),$AD$9,""),$AE$3,""),$AE$4,""),$AE$5,""),$AF$3,""),$AF$4,""),$AF$5,""),$AF$6,""),$AF$7,""),$AF$8,""),$AF$9,""),$AE$6,""),$AE$7,""),$AE$8,""),$AE$9,""),$AC$7,""),$AC$8,""),$AC$9,""),$AA$4,"")," ","")," ","")," ","")*$AA$12/1000,"") -> 707110 | Y13: =IF(N13=0,0,IF(AND(W13>0,W13<>""),MAX($Y$1:Y12)+1,0)) -> 6
A14: =IFERROR(INDEX($U$1:$U$110,MATCH($L14,$Y$1:$Y$110,0),1),"") -> 工具、器具及び備品（純額） | B14: =IFERROR(INDEX($W$1:$W$110,MATCH($L14,$Y$1:$Y$110,0),1),"") -> 18591 | D14: =IF(A14="","",IFERROR(VLOOKUP(A14,科目対照表!$C$6:$F$114,科目対照表!$F$4,0),"")) -> 不動産 | E14: =IF(A14="","",IFERROR(VLOOKUP(A14,科目対照表!$C$6:$H$114,科目対照表!$H$4,0),"")) -> Y | F14: =IF(D14="","",IF(E14="Y",IF(C14="",MAX($F$5:F13)+1,""),"")) -> 7 | G14: =IF(D14="","",IF(E14="Y",IF(C14="Y",MAX($G$5:G13)+1,""),"")) | H14: =IF(D14="","",IF(E14="",IF(C14="",MAX($H$5:H13)+1,""),"")) | L14: =L13+1 -> 11 | N14: =IF(N13=1,IF(P17=$N$1,0,1),0) -> 1 | P14: 未収還付法人税等 | Q14: 4791 | R14: 14171 | T14: =IF(OR(P14=$AE$15,P14=$AE$16,P14=$AE$17,P14=$AE$18,P14=$AE$19,P14=$AE$20,P14=$AE$21,P14=$AE$22,P14=$AE$23),P14,T13) -> 流動資産 | U14: =IF(OR(P14=$AA$14,P14=$AA$15,P14=$AA$16,P14=$AA$17,P14=$AA$18,P14=$AA$19,P14=$AA$20,P14=$AB$14,P14=$AB$15,P14=$AB$16,P14=$AB$17,P14=$AB$18,P14=$AB$19,P14=$AB$20),T14&P14,P14) -> 未収還付法人税等 | V14: =ASC(R14) -> 14171 | W14: =IFERROR(SUBSTITUTE(SUBSTITUTE(SUBSTITUTE(SUBSTITUTE(SUBSTITUTE(SUBSTITUTE(SUBSTITUTE(SUBSTITUTE(SUBSTITUTE(SUBSTITUTE(SUBSTITUTE(SUBSTITUTE(SUBSTITUTE(SUBSTITUTE(SUBSTITUTE(SUBSTITUTE(SUBSTITUTE(SUBSTITUTE(SUBSTITUTE(SUBSTITUTE(SUBSTITUTE(SUBSTITUTE(SUBSTITUTE(SUBSTITUTE(SUBSTITUTE(SUBSTITUTE(SUBSTITUTE(SUBSTITUTE(SUBSTITUTE(SUBSTITUTE(SUBSTITUTE(SUBSTITUTE(SUBSTITUTE(V14,$AA$3,"-"),$AC$3,""),$AC$4,""),$AC$5,""),$AC$6,""),$AD$3,""),$AD$4,""),$AD$5,""),$AD$6,""),$AD$7,""),$AD$8,""),$AD$9,""),$AE$3,""),$AE$4,""),$AE$5,""),$AF$3,""),$AF$4,""),$AF$5,""),$AF$6,""),$AF$7,""),$AF$8,""),$AF$9,""),$AE$6,""),$AE$7,""),$AE$8,""),$AE$9,""),$AC$7,""),$AC$8,""),$AC$9,""),$AA$4,"")," ","")," ","")," ","")*$AA$12/1000,"") -> 14171 | Y14: =IF(N14=0,0,IF(AND(W14>0,W14<>""),MAX($Y$1:Y13)+1,0)) -> 7 | AA14: 貸倒引当金 | AB14: リース債務 | AD14: 貸借対照表
A15: =IFERROR(INDEX($U$1:$U$110,MATCH($L15,$Y$1:$Y$110,0),1),"") -> 信託建物 | B15: =IFERROR(INDEX($W$1:$W$110,MATCH($L15,$Y$1:$Y$110,0),1),"") -> 100599189 | D15: =IF(A15="","",IFERROR(VLOOKUP(A15,科目対照表!$C$6:$F$114,科目対照表!$F$4,0),"")) | E15: =IF(A15="","",IFERROR(VLOOKUP(A15,科目対照表!$C$6:$H$114,科目対照表!$H$4,0),"")) | F15: =IF(D15="","",IF(E15="Y",IF(C15="",MAX($F$5:F14)+1,""),"")) | G15: =IF(D15="","",IF(E15="Y",IF(C15="Y",MAX($G$5:G14)+1,""),"")) | H15: =IF(D15="","",IF(E15="",IF(C15="",MAX($H$5:H14)+1,""),"")) | L15: =L14+1 -> 12 | N15: =IF(N14=1,IF(P18=$N$1,0,1),0) -> 1 | P15: 未収消費税等 | Q15: － | R15: － | T15: =IF(OR(P15=$AE$15,P15=$AE$16,P15=$AE$17,P15=$AE$18,P15=$AE$19,P15=$AE$20,P15=$AE$21,P15=$AE$22,P15=$AE$23),P15,T14) -> 流動資産 | U15: =IF(OR(P15=$AA$14,P15=$AA$15,P15=$AA$16,P15=$AA$17,P15=$AA$18,P15=$AA$19,P15=$AA$20,P15=$AB$14,P15=$AB$15,P15=$AB$16,P15=$AB$17,P15=$AB$18,P15=$AB$19,P15=$AB$20),T15&P15,P15) -> 未収消費税等 | V15: =ASC(R15) -> - | W15: =IFERROR(SUBSTITUTE(SUBSTITUTE(SUBSTITUTE(SUBSTITUTE(SUBSTITUTE(SUBSTITUTE(SUBSTITUTE(SUBSTITUTE(SUBSTITUTE(SUBSTITUTE(SUBSTITUTE(SUBSTITUTE(SUBSTITUTE(SUBSTITUTE(SUBSTITUTE(SUBSTITUTE(SUBSTITUTE(SUBSTITUTE(SUBSTITUTE(SUBSTITUTE(SUBSTITUTE(SUBSTITUTE(SUBSTITUTE(SUBSTITUTE(SUBSTITUTE(SUBSTITUTE(SUBSTITUTE(SUBSTITUTE(SUBSTITUTE(SUBSTITUTE(SUBSTITUTE(SUBSTITUTE(SUBSTITUTE(V15,$AA$3,"-"),$AC$3,""),$AC$4,""),$AC$5,""),$AC$6,""),$AD$3,""),$AD$4,""),$AD$5,""),$AD$6,""),$AD$7,""),$AD$8,""),$AD$9,""),$AE$3,""),$AE$4,""),$AE$5,""),$AF$3,""),$AF$4,""),$AF$5,""),$AF$6,""),$AF$7,""),$AF$8,""),$AF$9,""),$AE$6,""),$AE$7,""),$AE$8,""),$AE$9,""),$AC$7,""),$AC$8,""),$AC$9,""),$AA$4,"")," ","")," ","")," ","")*$AA$12/1000,"") | Y15: =IF(N15=0,0,IF(AND(W15>0,W15<>""),MAX($Y$1:Y14)+1,0)) -> 0 | AA15: 信託その他 | AB15: 信託リース債務 | AE15: 流動資産
A16: =IFERROR(INDEX($U$1:$U$110,MATCH($L16,$Y$1:$Y$110,0),1),"") -> 信託建物（純額） | B16: =IFERROR(INDEX($W$1:$W$110,MATCH($L16,$Y$1:$Y$110,0),1),"") -> 72147614 | D16: =IF(A16="","",IFERROR(VLOOKUP(A16,科目対照表!$C$6:$F$114,科目対照表!$F$4,0),"")) -> 不動産 | E16: =IF(A16="","",IFERROR(VLOOKUP(A16,科目対照表!$C$6:$H$114,科目対照表!$H$4,0),"")) -> Y | F16: =IF(D16="","",IF(E16="Y",IF(C16="",MAX($F$5:F15)+1,""),"")) -> 8 | G16: =IF(D16="","",IF(E16="Y",IF(C16="Y",MAX($G$5:G15)+1,""),"")) | H16: =IF(D16="","",IF(E16="",IF(C16="",MAX($H$5:H15)+1,""),"")) | L16: =L15+1 -> 13 | N16: =IF(N15=1,IF(P19=$N$1,0,1),0) -> 1 | P16: 立替金 | Q16: － | R16: － | T16: =IF(OR(P16=$AE$15,P16=$AE$16,P16=$AE$17,P16=$AE$18,P16=$AE$19,P16=$AE$20,P16=$AE$21,P16=$AE$22,P16=$AE$23),P16,T15) -> 流動資産 | U16: =IF(OR(P16=$AA$14,P16=$AA$15,P16=$AA$16,P16=$AA$17,P16=$AA$18,P16=$AA$19,P16=$AA$20,P16=$AB$14,P16=$AB$15,P16=$AB$16,P16=$AB$17,P16=$AB$18,P16=$AB$19,P16=$AB$20),T16&P16,P16) -> 立替金 | V16: =ASC(R16) -> - | W16: =IFERROR(SUBSTITUTE(SUBSTITUTE(SUBSTITUTE(SUBSTITUTE(SUBSTITUTE(SUBSTITUTE(SUBSTITUTE(SUBSTITUTE(SUBSTITUTE(SUBSTITUTE(SUBSTITUTE(SUBSTITUTE(SUBSTITUTE(SUBSTITUTE(SUBSTITUTE(SUBSTITUTE(SUBSTITUTE(SUBSTITUTE(SUBSTITUTE(SUBSTITUTE(SUBSTITUTE(SUBSTITUTE(SUBSTITUTE(SUBSTITUTE(SUBSTITUTE(SUBSTITUTE(SUBSTITUTE(SUBSTITUTE(SUBSTITUTE(SUBSTITUTE(SUBSTITUTE(SUBSTITUTE(SUBSTITUTE(V16,$AA$3,"-"),$AC$3,""),$AC$4,""),$AC$5,""),$AC$6,""),$AD$3,""),$AD$4,""),$AD$5,""),$AD$6,""),$AD$7,""),$AD$8,""),$AD$9,""),$AE$3,""),$AE$4,""),$AE$5,""),$AF$3,""),$AF$4,""),$AF$5,""),$AF$6,""),$AF$7,""),$AF$8,""),$AF$9,""),$AE$6,""),$AE$7,""),$AE$8,""),$AE$9,""),$AC$7,""),$AC$8,""),$AC$9,""),$AA$4,"")," ","")," ","")," ","")*$AA$12/1000,"") | Y16: =IF(N16=0,0,IF(AND(W16>0,W16<>""),MAX($Y$1:Y15)+1,0)) -> 0 | AB16: デリバティブ債務 | AE16: 有形固定資産
A17: =IFERROR(INDEX($U$1:$U$110,MATCH($L17,$Y$1:$Y$110,0),1),"") -> 信託構築物 | B17: =IFERROR(INDEX($W$1:$W$110,MATCH($L17,$Y$1:$Y$110,0),1),"") -> 839978 | D17: =IF(A17="","",IFERROR(VLOOKUP(A17,科目対照表!$C$6:$F$114,科目対照表!$F$4,0),"")) | E17: =IF(A17="","",IFERROR(VLOOKUP(A17,科目対照表!$C$6:$H$114,科目対照表!$H$4,0),"")) | F17: =IF(D17="","",IF(E17="Y",IF(C17="",MAX($F$5:F16)+1,""),"")) | G17: =IF(D17="","",IF(E17="Y",IF(C17="Y",MAX($G$5:G16)+1,""),"")) | H17: =IF(D17="","",IF(E17="",IF(C17="",MAX($H$5:H16)+1,""),"")) | L17: =L16+1 -> 14 | N17: =IF(N16=1,IF(P20=$N$1,0,1),0) -> 1 | P17: その他 | Q17: 5196 | R17: 21384 | T17: =IF(OR(P17=$AE$15,P17=$AE$16,P17=$AE$17,P17=$AE$18,P17=$AE$19,P17=$AE$20,P17=$AE$21,P17=$AE$22,P17=$AE$23),P17,T16) -> 流動資産 | U17: =IF(OR(P17=$AA$14,P17=$AA$15,P17=$AA$16,P17=$AA$17,P17=$AA$18,P17=$AA$19,P17=$AA$20,P17=$AB$14,P17=$AB$15,P17=$AB$16,P17=$AB$17,P17=$AB$18,P17=$AB$19,P17=$AB$20),T17&P17,P17) -> 流動資産その他 | V17: =ASC(R17) -> 21384 | W17: =IFERROR(SUBSTITUTE(SUBSTITUTE(SUBSTITUTE(SUBSTITUTE(SUBSTITUTE(SUBSTITUTE(SUBSTITUTE(SUBSTITUTE(SUBSTITUTE(SUBSTITUTE(SUBSTITUTE(SUBSTITUTE(SUBSTITUTE(SUBSTITUTE(SUBSTITUTE(SUBSTITUTE(SUBSTITUTE(SUBSTITUTE(SUBSTITUTE(SUBSTITUTE(SUBSTITUTE(SUBSTITUTE(SUBSTITUTE(SUBSTITUTE(SUBSTITUTE(SUBSTITUTE(SUBSTITUTE(SUBSTITUTE(SUBSTITUTE(SUBSTITUTE(SUBSTITUTE(SUBSTITUTE(SUBSTITUTE(V17,$AA$3,"-"),$AC$3,""),$AC$4,""),$AC$5,""),$AC$6,""),$AD$3,""),$AD$4,""),$AD$5,""),$AD$6,""),$AD$7,""),$AD$8,""),$AD$9,""),$AE$3,""),$AE$4,""),$AE$5,""),$AF$3,""),$AF$4,""),$AF$5,""),$AF$6,""),$AF$7,""),$AF$8,""),$AF$9,""),$AE$6,""),$AE$7,""),$AE$8,""),$AE$9,""),$AC$7,""),$AC$8,""),$AC$9,""),$AA$4,"")," ","")," ","")," ","")*$AA$12/1000,"") -> 21384 | Y17: =IF(N17=0,0,IF(AND(W17>0,W17<>""),MAX($Y$1:Y16)+1,0)) -> 8 | AB17: デリバティブ債権 | AE17: 無形固定資産
A18: =IFERROR(INDEX($U$1:$U$110,MATCH($L18,$Y$1:$Y$110,0),1),"") -> 信託構築物（純額） | B18: =IFERROR(INDEX($W$1:$W$110,MATCH($L18,$Y$1:$Y$110,0),1),"") -> 402961 | D18: =IF(A18="","",IFERROR(VLOOKUP(A18,科目対照表!$C$6:$F$114,科目対照表!$F$4,0),"")) -> 不動産 | E18: =IF(A18="","",IFERROR(VLOOKUP(A18,科目対照表!$C$6:$H$114,科目対照表!$H$4,0),"")) -> Y | F18: =IF(D18="","",IF(E18="Y",IF(C18="",MAX($F$5:F17)+1,""),"")) -> 9 | G18: =IF(D18="","",IF(E18="Y",IF(C18="Y",MAX($G$5:G17)+1,""),"")) | H18: =IF(D18="","",IF(E18="",IF(C18="",MAX($H$5:H17)+1,""),"")) | L18: =L17+1 -> 15 | N18: =IF(N17=1,IF(P21=$N$1,0,1),0) -> 1 | P18: 貸倒引当金 | Q18: － | R18: － | T18: =IF(OR(P18=$AE$15,P18=$AE$16,P18=$AE$17,P18=$AE$18,P18=$AE$19,P18=$AE$20,P18=$AE$21,P18=$AE$22,P18=$AE$23),P18,T17) -> 流動資産 | U18: =IF(OR(P18=$AA$14,P18=$AA$15,P18=$AA$16,P18=$AA$17,P18=$AA$18,P18=$AA$19,P18=$AA$20,P18=$AB$14,P18=$AB$15,P18=$AB$16,P18=$AB$17,P18=$AB$18,P18=$AB$19,P18=$AB$20),T18&P18,P18) -> 流動資産貸倒引当金 | V18: =ASC(R18) -> - | W18: =IFERROR(SUBSTITUTE(SUBSTITUTE(SUBSTITUTE(SUBSTITUTE(SUBSTITUTE(SUBSTITUTE(SUBSTITUTE(SUBSTITUTE(SUBSTITUTE(SUBSTITUTE(SUBSTITUTE(SUBSTITUTE(SUBSTITUTE(SUBSTITUTE(SUBSTITUTE(SUBSTITUTE(SUBSTITUTE(SUBSTITUTE(SUBSTITUTE(SUBSTITUTE(SUBSTITUTE(SUBSTITUTE(SUBSTITUTE(SUBSTITUTE(SUBSTITUTE(SUBSTITUTE(SUBSTITUTE(SUBSTITUTE(SUBSTITUTE(SUBSTITUTE(SUBSTITUTE(SUBSTITUTE(SUBSTITUTE(V18,$AA$3,"-"),$AC$3,""),$AC$4,""),$AC$5,""),$AC$6,""),$AD$3,""),$AD$4,""),$AD$5,""),$AD$6,""),$AD$7,""),$AD$8,""),$AD$9,""),$AE$3,""),$AE$4,""),$AE$5,""),$AF$3,""),$AF$4,""),$AF$5,""),$AF$6,""),$AF$7,""),$AF$8,""),$AF$9,""),$AE$6,""),$AE$7,""),$AE$8,""),$AE$9,""),$AC$7,""),$AC$8,""),$AC$9,""),$AA$4,"")," ","")," ","")," ","")*$AA$12/1000,"") | Y18: =IF(N18=0,0,IF(AND(W18>0,W18<>""),MAX($Y$1:Y17)+1,0)) -> 0 | AB18: その他 | AE18: 投資その他の資産
A19: =IFERROR(INDEX($U$1:$U$110,MATCH($L19,$Y$1:$Y$110,0),1),"") -> 信託機械及び装置 | B19: =IFERROR(INDEX($W$1:$W$110,MATCH($L19,$Y$1:$Y$110,0),1),"") -> 1980711 | D19: =IF(A19="","",IFERROR(VLOOKUP(A19,科目対照表!$C$6:$F$114,科目対照表!$F$4,0),"")) | E19: =IF(A19="","",IFERROR(VLOOKUP(A19,科目対照表!$C$6:$H$114,科目対照表!$H$4,0),"")) | F19: =IF(D19="","",IF(E19="Y",IF(C19="",MAX($F$5:F18)+1,""),"")) | G19: =IF(D19="","",IF(E19="Y",IF(C19="Y",MAX($G$5:G18)+1,""),"")) | H19: =IF(D19="","",IF(E19="",IF(C19="",MAX($H$5:H18)+1,""),"")) | L19: =L18+1 -> 16 | N19: =IF(N18=1,IF(P22=$N$1,0,1),0) -> 1 | P19: 流動資産合計 | Q19: 22401477 | R19: 22520829 | T19: =IF(OR(P19=$AE$15,P19=$AE$16,P19=$AE$17,P19=$AE$18,P19=$AE$19,P19=$AE$20,P19=$AE$21,P19=$AE$22,P19=$AE$23),P19,T18) -> 流動資産 | U19: =IF(OR(P19=$AA$14,P19=$AA$15,P19=$AA$16,P19=$AA$17,P19=$AA$18,P19=$AA$19,P19=$AA$20,P19=$AB$14,P19=$AB$15,P19=$AB$16,P19=$AB$17,P19=$AB$18,P19=$AB$19,P19=$AB$20),T19&P19,P19) -> 流動資産合計 | V19: =ASC(R19) -> 22520829 | W19: =IFERROR(SUBSTITUTE(SUBSTITUTE(SUBSTITUTE(SUBSTITUTE(SUBSTITUTE(SUBSTITUTE(SUBSTITUTE(SUBSTITUTE(SUBSTITUTE(SUBSTITUTE(SUBSTITUTE(SUBSTITUTE(SUBSTITUTE(SUBSTITUTE(SUBSTITUTE(SUBSTITUTE(SUBSTITUTE(SUBSTITUTE(SUBSTITUTE(SUBSTITUTE(SUBSTITUTE(SUBSTITUTE(SUBSTITUTE(SUBSTITUTE(SUBSTITUTE(SUBSTITUTE(SUBSTITUTE(SUBSTITUTE(SUBSTITUTE(SUBSTITUTE(SUBSTITUTE(SUBSTITUTE(SUBSTITUTE(V19,$AA$3,"-"),$AC$3,""),$AC$4,""),$AC$5,""),$AC$6,""),$AD$3,""),$AD$4,""),$AD$5,""),$AD$6,""),$AD$7,""),$AD$8,""),$AD$9,""),$AE$3,""),$AE$4,""),$AE$5,""),$AF$3,""),$AF$4,""),$AF$5,""),$AF$6,""),$AF$7,""),$AF$8,""),$AF$9,""),$AE$6,""),$AE$7,""),$AE$8,""),$AE$9,""),$AC$7,""),$AC$8,""),$AC$9,""),$AA$4,"")," ","")," ","")," ","")*$AA$12/1000,"") -> 22520829 | Y19: =IF(N19=0,0,IF(AND(W19>0,W19<>""),MAX($Y$1:Y18)+1,0)) -> 9 | AE19: 繰延資産
A20: =IFERROR(INDEX($U$1:$U$110,MATCH($L20,$Y$1:$Y$110,0),1),"") -> 信託機械及び装置（純額） | B20: =IFERROR(INDEX($W$1:$W$110,MATCH($L20,$Y$1:$Y$110,0),1),"") -> 1198773 | D20: =IF(A20="","",IFERROR(VLOOKUP(A20,科目対照表!$C$6:$F$114,科目対照表!$F$4,0),"")) -> 不動産 | E20: =IF(A20="","",IFERROR(VLOOKUP(A20,科目対照表!$C$6:$H$114,科目対照表!$H$4,0),"")) -> Y | F20: =IF(D20="","",IF(E20="Y",IF(C20="",MAX($F$5:F19)+1,""),"")) -> 10 | G20: =IF(D20="","",IF(E20="Y",IF(C20="Y",MAX($G$5:G19)+1,""),"")) | H20: =IF(D20="","",IF(E20="",IF(C20="",MAX($H$5:H19)+1,""),"")) | L20: =L19+1 -> 17 | N20: =IF(N19=1,IF(P23=$N$1,0,1),0) -> 1 | P20: 固定資産 | T20: =IF(OR(P20=$AE$15,P20=$AE$16,P20=$AE$17,P20=$AE$18,P20=$AE$19,P20=$AE$20,P20=$AE$21,P20=$AE$22,P20=$AE$23),P20,T19) -> 流動資産 | U20: =IF(OR(P20=$AA$14,P20=$AA$15,P20=$AA$16,P20=$AA$17,P20=$AA$18,P20=$AA$19,P20=$AA$20,P20=$AB$14,P20=$AB$15,P20=$AB$16,P20=$AB$17,P20=$AB$18,P20=$AB$19,P20=$AB$20),T20&P20,P20) -> 固定資産 | V20: =ASC(R20) | W20: =IFERROR(SUBSTITUTE(SUBSTITUTE(SUBSTITUTE(SUBSTITUTE(SUBSTITUTE(SUBSTITUTE(SUBSTITUTE(SUBSTITUTE(SUBSTITUTE(SUBSTITUTE(SUBSTITUTE(SUBSTITUTE(SUBSTITUTE(SUBSTITUTE(SUBSTITUTE(SUBSTITUTE(SUBSTITUTE(SUBSTITUTE(SUBSTITUTE(SUBSTITUTE(SUBSTITUTE(SUBSTITUTE(SUBSTITUTE(SUBSTITUTE(SUBSTITUTE(SUBSTITUTE(SUBSTITUTE(SUBSTITUTE(SUBSTITUTE(SUBSTITUTE(SUBSTITUTE(SUBSTITUTE(SUBSTITUTE(V20,$AA$3,"-"),$AC$3,""),$AC$4,""),$AC$5,""),$AC$6,""),$AD$3,""),$AD$4,""),$AD$5,""),$AD$6,""),$AD$7,""),$AD$8,""),$AD$9,""),$AE$3,""),$AE$4,""),$AE$5,""),$AF$3,""),$AF$4,""),$AF$5,""),$AF$6,""),$AF$7,""),$AF$8,""),$AF$9,""),$AE$6,""),$AE$7,""),$AE$8,""),$AE$9,""),$AC$7,""),$AC$8,""),$AC$9,""),$AA$4,"")," ","")," ","")," ","")*$AA$12/1000,"") | Y20: =IF(N20=0,0,IF(AND(W20>0,W20<>""),MAX($Y$1:Y19)+1,0)) -> 0 | AE20: 流動負債
A21: =IFERROR(INDEX($U$1:$U$110,MATCH($L21,$Y$1:$Y$110,0),1),"") -> 信託工具、器具及び備品 | B21: =IFERROR(INDEX($W$1:$W$110,MATCH($L21,$Y$1:$Y$110,0),1),"") -> 646586 | D21: =IF(A21="","",IFERROR(VLOOKUP(A21,科目対照表!$C$6:$F$114,科目対照表!$F$4,0),"")) | E21: =IF(A21="","",IFERROR(VLOOKUP(A21,科目対照表!$C$6:$H$114,科目対照表!$H$4,0),"")) | F21: =IF(D21="","",IF(E21="Y",IF(C21="",MAX($F$5:F20)+1,""),"")) | G21: =IF(D21="","",IF(E21="Y",IF(C21="Y",MAX($G$5:G20)+1,""),"")) | H21: =IF(D21="","",IF(E21="",IF(C21="",MAX($H$5:H20)+1,""),"")) | L21: =L20+1 -> 18 | N21: =IF(N20=1,IF(P24=$N$1,0,1),0) -> 1 | P21: 有形固定資産 | T21: =IF(OR(P21=$AE$15,P21=$AE$16,P21=$AE$17,P21=$AE$18,P21=$AE$19,P21=$AE$20,P21=$AE$21,P21=$AE$22,P21=$AE$23),P21,T20) -> 有形固定資産 | U21: =IF(OR(P21=$AA$14,P21=$AA$15,P21=$AA$16,P21=$AA$17,P21=$AA$18,P21=$AA$19,P21=$AA$20,P21=$AB$14,P21=$AB$15,P21=$AB$16,P21=$AB$17,P21=$AB$18,P21=$AB$19,P21=$AB$20),T21&P21,P21) -> 有形固定資産 | V21: =ASC(R21) | W21: =IFERROR(SUBSTITUTE(SUBSTITUTE(SUBSTITUTE(SUBSTITUTE(SUBSTITUTE(SUBSTITUTE(SUBSTITUTE(SUBSTITUTE(SUBSTITUTE(SUBSTITUTE(SUBSTITUTE(SUBSTITUTE(SUBSTITUTE(SUBSTITUTE(SUBSTITUTE(SUBSTITUTE(SUBSTITUTE(SUBSTITUTE(SUBSTITUTE(SUBSTITUTE(SUBSTITUTE(SUBSTITUTE(SUBSTITUTE(SUBSTITUTE(SUBSTITUTE(SUBSTITUTE(SUBSTITUTE(SUBSTITUTE(SUBSTITUTE(SUBSTITUTE(SUBSTITUTE(SUBSTITUTE(SUBSTITUTE(V21,$AA$3,"-"),$AC$3,""),$AC$4,""),$AC$5,""),$AC$6,""),$AD$3,""),$AD$4,""),$AD$5,""),$AD$6,""),$AD$7,""),$AD$8,""),$AD$9,""),$AE$3,""),$AE$4,""),$AE$5,""),$AF$3,""),$AF$4,""),$AF$5,""),$AF$6,""),$AF$7,""),$AF$8,""),$AF$9,""),$AE$6,""),$AE$7,""),$AE$8,""),$AE$9,""),$AC$7,""),$AC$8,""),$AC$9,""),$AA$4,"")," ","")," ","")," ","")*$AA$12/1000,"") | Y21: =IF(N21=0,0,IF(AND(W21>0,W21<>""),MAX($Y$1:Y20)+1,0)) -> 0 | AE21: 固定負債
A22: =IFERROR(INDEX($U$1:$U$110,MATCH($L22,$Y$1:$Y$110,0),1),"") -> 信託工具、器具及び備品（純額） | B22: =IFERROR(INDEX($W$1:$W$110,MATCH($L22,$Y$1:$Y$110,0),1),"") -> 286059 | D22: =IF(A22="","",IFERROR(VLOOKUP(A22,科目対照表!$C$6:$F$114,科目対照表!$F$4,0),"")) -> 不動産 | E22: =IF(A22="","",IFERROR(VLOOKUP(A22,科目対照表!$C$6:$H$114,科目対照表!$H$4,0),"")) -> Y | F22: =IF(D22="","",IF(E22="Y",IF(C22="",MAX($F$5:F21)+1,""),"")) -> 11 | G22: =IF(D22="","",IF(E22="Y",IF(C22="Y",MAX($G$5:G21)+1,""),"")) | H22: =IF(D22="","",IF(E22="",IF(C22="",MAX($H$5:H21)+1,""),"")) | L22: =L21+1 -> 19 | N22: =IF(N21=1,IF(P25=$N$1,0,1),0) -> 1 | P22: 建物 | Q22: － | R22: － | T22: =IF(OR(P22=$AE$15,P22=$AE$16,P22=$AE$17,P22=$AE$18,P22=$AE$19,P22=$AE$20,P22=$AE$21,P22=$AE$22,P22=$AE$23),P22,T21) -> 有形固定資産 | U22: =IF(OR(P22=$AA$14,P22=$AA$15,P22=$AA$16,P22=$AA$17,P22=$AA$18,P22=$AA$19,P22=$AA$20,P22=$AB$14,P22=$AB$15,P22=$AB$16,P22=$AB$17,P22=$AB$18,P22=$AB$19,P22=$AB$20),T22&P22,P22) -> 建物 | V22: =ASC(R22) -> - | W22: =IFERROR(SUBSTITUTE(SUBSTITUTE(SUBSTITUTE(SUBSTITUTE(SUBSTITUTE(SUBSTITUTE(SUBSTITUTE(SUBSTITUTE(SUBSTITUTE(SUBSTITUTE(SUBSTITUTE(SUBSTITUTE(SUBSTITUTE(SUBSTITUTE(SUBSTITUTE(SUBSTITUTE(SUBSTITUTE(SUBSTITUTE(SUBSTITUTE(SUBSTITUTE(SUBSTITUTE(SUBSTITUTE(SUBSTITUTE(SUBSTITUTE(SUBSTITUTE(SUBSTITUTE(SUBSTITUTE(SUBSTITUTE(SUBSTITUTE(SUBSTITUTE(SUBSTITUTE(SUBSTITUTE(SUBSTITUTE(V22,$AA$3,"-"),$AC$3,""),$AC$4,""),$AC$5,""),$AC$6,""),$AD$3,""),$AD$4,""),$AD$5,""),$AD$6,""),$AD$7,""),$AD$8,""),$AD$9,""),$AE$3,""),$AE$4,""),$AE$5,""),$AF$3,""),$AF$4,""),$AF$5,""),$AF$6,""),$AF$7,""),$AF$8,""),$AF$9,""),$AE$6,""),$AE$7,""),$AE$8,""),$AE$9,""),$AC$7,""),$AC$8,""),$AC$9,""),$AA$4,"")," ","")," ","")," ","")*$AA$12/1000,"") | Y22: =IF(N22=0,0,IF(AND(W22>0,W22<>""),MAX($Y$1:Y21)+1,0)) -> 0 | AE22: 投資主資本
A23: =IFERROR(INDEX($U$1:$U$110,MATCH($L23,$Y$1:$Y$110,0),1),"") -> 信託土地 | B23: =IFERROR(INDEX($W$1:$W$110,MATCH($L23,$Y$1:$Y$110,0),1),"") -> 453337142 | D23: =IF(A23="","",IFERROR(VLOOKUP(A23,科目対照表!$C$6:$F$114,科目対照表!$F$4,0),"")) -> 不動産 | E23: =IF(A23="","",IFERROR(VLOOKUP(A23,科目対照表!$C$6:$H$114,科目対照表!$H$4,0),"")) -> Y | F23: =IF(D23="","",IF(E23="Y",IF(C23="",MAX($F$5:F22)+1,""),"")) -> 12 | G23: =IF(D23="","",IF(E23="Y",IF(C23="Y",MAX($G$5:G22)+1,""),"")) | H23: =IF(D23="","",IF(E23="",IF(C23="",MAX($H$5:H22)+1,""),"")) | L23: =L22+1 -> 20 | N23: =IF(N22=1,IF(P26=$N$1,0,1),0) -> 1 | P23: 減価償却累計額 | Q23: － | R23: － | T23: =IF(OR(P23=$AE$15,P23=$AE$16,P23=$AE$17,P23=$AE$18,P23=$AE$19,P23=$AE$20,P23=$AE$21,P23=$AE$22,P23=$AE$23),P23,T22) -> 有形固定資産 | U23: =IF(OR(P23=$AA$14,P23=$AA$15,P23=$AA$16,P23=$AA$17,P23=$AA$18,P23=$AA$19,P23=$AA$20,P23=$AB$14,P23=$AB$15,P23=$AB$16,P23=$AB$17,P23=$AB$18,P23=$AB$19,P23=$AB$20),T23&P23,P23) -> 減価償却累計額 | V23: =ASC(R23) -> - | W23: =IFERROR(SUBSTITUTE(SUBSTITUTE(SUBSTITUTE(SUBSTITUTE(SUBSTITUTE(SUBSTITUTE(SUBSTITUTE(SUBSTITUTE(SUBSTITUTE(SUBSTITUTE(SUBSTITUTE(SUBSTITUTE(SUBSTITUTE(SUBSTITUTE(SUBSTITUTE(SUBSTITUTE(SUBSTITUTE(SUBSTITUTE(SUBSTITUTE(SUBSTITUTE(SUBSTITUTE(SUBSTITUTE(SUBSTITUTE(SUBSTITUTE(SUBSTITUTE(SUBSTITUTE(SUBSTITUTE(SUBSTITUTE(SUBSTITUTE(SUBSTITUTE(SUBSTITUTE(SUBSTITUTE(SUBSTITUTE(V23,$AA$3,"-"),$AC$3,""),$AC$4,""),$AC$5,""),$AC$6,""),$AD$3,""),$AD$4,""),$AD$5,""),$AD$6,""),$AD$7,""),$AD$8,""),$AD$9,""),$AE$3,""),$AE$4,""),$AE$5,""),$AF$3,""),$AF$4,""),$AF$5,""),$AF$6,""),$AF$7,""),$AF$8,""),$AF$9,""),$AE$6,""),$AE$7,""),$AE$8,""),$AE$9,""),$AC$7,""),$AC$8,""),$AC$9,""),$AA$4,"")," ","")," ","")," ","")*$AA$12/1000,"") | Y23: =IF(N23=0,0,IF(AND(W23>0,W23<>""),MAX($Y$1:Y22)+1,0)) -> 0 | AE23: 評価・換算差額等
